OziExplorer Map Data File Version 2.2
D2b1.jpg
D2B1.ozf2
1 ,Map Code,
WGS 84,, 0.0000, 0.0000,WGS 84
Reserved 1
Reserved 2
Magnetic Variation,,,E
Map Projection,Latitude/Longitude,PolyCal,No,AutoCalOnly,No,BSBUseWPX,No
Point01,xy, 469, 956,in, deg, 57, 20,N, 33, 0,E, grid, , , ,N
Point02,xy, 484, 316,in, deg, 57, 25,N, 33, 0,E, grid, , , ,N
Point03,xy, 2570, 365,in, deg, 57, 25,N, 33, 30,E, grid, , , ,N
Point04,xy, 2560, 1013,in, deg, 57, 20,N, 33, 30,E, grid, , , ,N
Point05,xy, , ,in, deg, , ,N, , ,E, grid, , , ,N
Point06,xy, , ,in, deg, , ,N, , ,E, grid, , , ,N
Point07,xy, , ,in, deg, , ,N, , ,E, grid, , , ,N
Point08,xy, , ,in, deg, , ,N, , ,E, grid, , , ,N
Point09,xy, , ,in, deg, , ,N, , ,E, grid, , , ,N
Point10,xy, , ,in, deg, , ,, , ,, grid, , , ,
Point11,xy, , ,in, deg, , ,, , ,, grid, , , ,
Point12,xy, , ,in, deg, , ,, , ,, grid, , , ,
Point13,xy, , ,in, deg, , ,, , ,, grid, , , ,
Point14,xy, , ,in, deg, , ,, , ,, grid, , , ,
Point15,xy, , ,in, deg, , ,, , ,, grid, , , ,
Point16,xy, , ,in, deg, , ,, , ,, grid, , , ,
Point17,xy, , ,in, deg, , ,, , ,, grid, , , ,
Point18,xy, , ,in, deg, , ,, , ,, grid, , , ,
Point19,xy, , ,in, deg, , ,, , ,, grid, , , ,
Point20,xy, , ,in, deg, , ,, , ,, grid, , , ,
Point21,xy, , ,in, deg, , ,, , ,, grid, , , ,
Point22,xy, , ,in, deg, , ,, , ,, grid, , , ,
Point23,xy, , ,in, deg, , ,, , ,, grid, , , ,
Point24,xy, , ,in, deg, , ,, , ,, grid, , , ,
Point25,xy, , ,in, deg, , ,, , ,, grid, , , ,
Point26,xy, , ,in, deg, , ,, , ,, grid, , , ,
Point27,xy, , ,in, deg, , ,, , ,, grid, , , ,
Point28,xy, , ,in, deg, , ,, , ,, grid, , , ,
Point29,xy, , ,in, deg, , ,, , ,, grid, , , ,
Point30,xy, , ,in, deg, , ,, , ,, grid, , , ,
Projection Setup, 0.000000000, 33.000000000, 1.000000000, 500000.00, 0.00,,,,,
Map Feature = MF ; Map Comment = MC These follow if they exist
Track File = TF These follow if they exist
Moving Map Parameters = MM? These follow if they exist
MM0,Yes
MMPNUM,39
MMPXY,1,132,105
MMPXY,2,350,205
MMPXY,3,353,279
MMPXY,4,495,433
MMPXY,5,545,472
MMPXY,6,523,583
MMPXY,7,420,552
MMPXY,8,402,620
MMPXY,9,433,711
MMPXY,10,504,743
MMPXY,11,572,786
MMPXY,12,708,933
MMPXY,13,807,883
MMPXY,14,868,757
MMPXY,15,1021,591
MMPXY,16,1011,536
MMPXY,17,1047,496
MMPXY,18,1048,433
MMPXY,19,1161,337
MMPXY,20,1264,398
MMPXY,21,1373,361
MMPXY,22,1435,378
MMPXY,23,1578,310
MMPXY,24,1555,402
MMPXY,25,1585,480
MMPXY,26,1715,488
MMPXY,27,1710,547
MMPXY,28,1811,579
MMPXY,29,1759,488
MMPXY,30,1825,374
MMPXY,31,1921,351
MMPXY,32,2106,414
MMPXY,33,2373,424
MMPXY,34,2459,372
MMPXY,35,2472,467
MMPXY,36,2555,519
MMPXY,37,2667,605
MMPXY,38,2671,1107
MMPXY,39,132,1119
MMPLL,1,32.915099,57.442547
MMPLL,2,32.967728,57.430329
MMPLL,3,32.968790,57.420768
MMPLL,4,33.003484,57.401316
MMPLL,5,33.015630,57.396436
MMPLL,6,33.010881,57.382007
MMPLL,7,32.986090,57.385679
MMPLL,8,32.982099,57.376825
MMPLL,9,32.989939,57.365157
MMPLL,10,33.007077,57.361251
MMPLL,11,33.023549,57.355913
MMPLL,12,33.056775,57.337347
MMPLL,13,33.080232,57.344139
MMPLL,14,33.094243,57.360635
MMPLL,15,33.130084,57.382607
MMPLL,16,33.127435,57.389688
MMPLL,17,33.135864,57.394979
MMPLL,18,33.135810,57.403131
MMPLL,19,33.162404,57.415918
MMPLL,20,33.187334,57.408367
MMPLL,21,33.213245,57.413510
MMPLL,22,33.228160,57.411515
MMPLL,23,33.262062,57.420779
MMPLL,24,33.256986,57.408804
MMPLL,25,33.264527,57.398815
MMPLL,26,33.295671,57.398207
MMPLL,27,33.294749,57.390559
MMPLL,28,33.319066,57.386752
MMPLL,29,33.306200,57.398351
MMPLL,30,33.321464,57.413312
MMPLL,31,33.344328,57.416602
MMPLL,32,33.388889,57.409061
MMPLL,33,33.452826,57.408644
MMPLL,34,33.473163,57.415652
MMPLL,35,33.476715,57.403407
MMPLL,36,33.496818,57.396954
MMPLL,37,33.524017,57.386199
MMPLL,38,33.527306,57.321286
MMPLL,39,32.919808,57.311400
MM1B,14.386797
MOP,Map Open Position,0,0
IWH,Map Image Width/Height,2688,1256
