OziExplorer Map Data File Version 2.2
D3a1.jpg
D3A1.ozf2
1 ,Map Code,
WGS 84,, 0.0000, 0.0000,WGS 84
Reserved 1
Reserved 2
Magnetic Variation,,,E
Map Projection,Latitude/Longitude,PolyCal,No,AutoCalOnly,No,BSBUseWPX,No
Point01,xy, 325, 438,in, deg, 57, 45,N, 34, 10,E, grid, , , ,N
Point02,xy, 306, 1733,in, deg, 57, 35,N, 34, 10,E, grid, , , ,N
Point03,xy, 2377, 1773,in, deg, 57, 35,N, 34, 40,E, grid, , , ,N
Point04,xy, 2400, 464,in, deg, 57, 45,N, 34, 40,E, grid, , , ,N
Point05,xy, , ,in, deg, , ,N, , ,E, grid, , , ,N
Point06,xy, , ,in, deg, , ,N, , ,E, grid, , , ,N
Point07,xy, , ,in, deg, , ,N, , ,E, grid, , , ,N
Point08,xy, , ,in, deg, , ,N, , ,E, grid, , , ,N
Point09,xy, , ,in, deg, , ,N, , ,E, grid, , , ,N
Point10,xy, , ,in, deg, , ,, , ,, grid, , , ,
Point11,xy, , ,in, deg, , ,, , ,, grid, , , ,
Point12,xy, , ,in, deg, , ,, , ,, grid, , , ,
Point13,xy, , ,in, deg, , ,, , ,, grid, , , ,
Point14,xy, , ,in, deg, , ,, , ,, grid, , , ,
Point15,xy, , ,in, deg, , ,, , ,, grid, , , ,
Point16,xy, , ,in, deg, , ,, , ,, grid, , , ,
Point17,xy, , ,in, deg, , ,, , ,, grid, , , ,
Point18,xy, , ,in, deg, , ,, , ,, grid, , , ,
Point19,xy, , ,in, deg, , ,, , ,, grid, , , ,
Point20,xy, , ,in, deg, , ,, , ,, grid, , , ,
Point21,xy, , ,in, deg, , ,, , ,, grid, , , ,
Point22,xy, , ,in, deg, , ,, , ,, grid, , , ,
Point23,xy, , ,in, deg, , ,, , ,, grid, , , ,
Point24,xy, , ,in, deg, , ,, , ,, grid, , , ,
Point25,xy, , ,in, deg, , ,, , ,, grid, , , ,
Point26,xy, , ,in, deg, , ,, , ,, grid, , , ,
Point27,xy, , ,in, deg, , ,, , ,, grid, , , ,
Point28,xy, , ,in, deg, , ,, , ,, grid, , , ,
Point29,xy, , ,in, deg, , ,, , ,, grid, , , ,
Point30,xy, , ,in, deg, , ,, , ,, grid, , , ,
Projection Setup, 0.000000000, 33.000000000, 1.000000000, 500000.00, 0.00,,,,,
Map Feature = MF ; Map Comment = MC These follow if they exist
Track File = TF These follow if they exist
Moving Map Parameters = MM? These follow if they exist
MM0,Yes
MMPNUM,20
MMPXY,1,631,151
MMPXY,2,2635,150
MMPXY,3,2627,1948
MMPXY,4,106,1934
MMPXY,5,108,1399
MMPXY,6,294,1526
MMPXY,7,460,1535
MMPXY,8,289,986
MMPXY,9,211,952
MMPXY,10,143,776
MMPXY,11,206,683
MMPXY,12,290,667
MMPXY,13,329,595
MMPXY,14,284,488
MMPXY,15,350,401
MMPXY,16,428,391
MMPXY,17,457,446
MMPXY,18,553,446
MMPXY,19,521,327
MMPXY,20,542,250
MMPLL,1,34.239110,57.786902
MMPLL,2,34.722340,57.791113
MMPLL,3,34.727403,57.560997
MMPLL,4,34.119449,57.557653
MMPLL,5,34.117851,57.626124
MMPLL,6,34.163195,57.610250
MMPLL,7,34.203259,57.609436
MMPLL,8,34.159890,57.679346
MMPLL,9,34.140949,57.683538
MMPLL,10,34.123867,57.705924
MMPLL,11,34.138697,57.717954
MMPLL,12,34.158890,57.720172
MMPLL,13,34.168014,57.729466
MMPLL,14,34.156747,57.743068
MMPLL,15,34.172324,57.754336
MMPLL,16,34.191093,57.755775
MMPLL,17,34.198300,57.748795
MMPLL,18,34.221449,57.748991
MMPLL,19,34.213270,57.764155
MMPLL,20,34.218034,57.774051
MM1B,14.372895
MOP,Map Open Position,0,0
IWH,Map Image Width/Height,2667,1976
