OziExplorer Map Data File Version 2.2
D5a2.jpg
d:\maps\pics\OldMaps\1862\Tver\OZF2\D5A2.ozf2
1 ,Map Code,
WGS 84,, 0.0000, 0.0000,WGS 84
Reserved 1
Reserved 2
Magnetic Variation,,,E
Map Projection,Latitude/Longitude,PolyCal,No,AutoCalOnly,No,BSBUseWPX,No
Point01,xy, 1634, 392,in, deg, 57,44.678835,N, 37,33.0046617,E, grid, , , ,N
Point02,xy, 1927, 1873,in, deg, 57,33.1910683,N, 37,36.7388017,E, grid, , , ,N
Point03,xy, 208, 1797,in, deg, 57,34.3522433,N, 37,12.0228183,E, grid, , , ,N
Point04,xy, 155, 292,in, deg, 57,45.8227783,N, 37,11.9740383,E, grid, , , ,N
Point05,xy, , ,in, deg, , ,N, , ,E, grid, , , ,N
Point06,xy, , ,in, deg, , ,N, , ,E, grid, , , ,N
Point07,xy, , ,in, deg, , ,N, , ,E, grid, , , ,N
Point08,xy, , ,in, deg, , ,N, , ,E, grid, , , ,N
Point09,xy, , ,in, deg, , ,N, , ,E, grid, , , ,N
Point10,xy, , ,in, deg, , ,N, , ,W, grid, , , ,N
Point11,xy, , ,in, deg, , ,N, , ,W, grid, , , ,N
Point12,xy, , ,in, deg, , ,N, , ,W, grid, , , ,N
Point13,xy, , ,in, deg, , ,N, , ,W, grid, , , ,N
Point14,xy, , ,in, deg, , ,N, , ,W, grid, , , ,N
Point15,xy, , ,in, deg, , ,N, , ,W, grid, , , ,N
Point16,xy, , ,in, deg, , ,N, , ,W, grid, , , ,N
Point17,xy, , ,in, deg, , ,N, , ,W, grid, , , ,N
Point18,xy, , ,in, deg, , ,N, , ,W, grid, , , ,N
Point19,xy, , ,in, deg, , ,N, , ,W, grid, , , ,N
Point20,xy, , ,in, deg, , ,N, , ,W, grid, , , ,N
Point21,xy, , ,in, deg, , ,N, , ,W, grid, , , ,N
Point22,xy, , ,in, deg, , ,N, , ,W, grid, , , ,N
Point23,xy, , ,in, deg, , ,N, , ,W, grid, , , ,N
Point24,xy, , ,in, deg, , ,N, , ,W, grid, , , ,N
Point25,xy, , ,in, deg, , ,N, , ,W, grid, , , ,N
Point26,xy, , ,in, deg, , ,N, , ,W, grid, , , ,N
Point27,xy, , ,in, deg, , ,N, , ,W, grid, , , ,N
Point28,xy, , ,in, deg, , ,N, , ,W, grid, , , ,N
Point29,xy, , ,in, deg, , ,N, , ,W, grid, , , ,N
Point30,xy, , ,in, deg, , ,N, , ,W, grid, , , ,N
Projection Setup, 0.000000000, 33.000000000, 1.000000000, 500000.00, 0.00,,,,,
Map Feature = MF ; Map Comment = MC These follow if they exist
Track File = TF These follow if they exist
Moving Map Parameters = MM? These follow if they exist
MM0,Yes
MMPNUM,33
MMPXY,1,15,155
MMPXY,2,1613,154
MMPXY,3,1640,185
MMPXY,4,1701,181
MMPXY,5,1687,290
MMPXY,6,1658,322
MMPXY,7,1726,450
MMPXY,8,1770,449
MMPXY,9,1826,528
MMPXY,10,1891,569
MMPXY,11,1890,615
MMPXY,12,2036,685
MMPXY,13,2050,743
MMPXY,14,2086,731
MMPXY,15,2119,802
MMPXY,16,2076,823
MMPXY,17,2134,892
MMPXY,18,2132,948
MMPXY,19,2070,974
MMPXY,20,2028,956
MMPXY,21,1982,997
MMPXY,22,2048,1068
MMPXY,23,1953,1127
MMPXY,24,1898,1244
MMPXY,25,1826,1277
MMPXY,26,1818,1350
MMPXY,27,1704,1436
MMPXY,28,1810,1638
MMPXY,29,1918,1814
MMPXY,30,2040,1848
MMPXY,31,2118,1871
MMPXY,32,2154,1932
MMPXY,33,20,1942
MMPLL,1, 37.165969, 57.782468
MMPLL,2, 37.547697, 57.774530
MMPLL,3, 37.553943, 57.770439
MMPLL,4, 37.568540, 57.770641
MMPLL,5, 37.564480, 57.756809
MMPLL,6, 37.557342, 57.752873
MMPLL,7, 37.572744, 57.736203
MMPLL,8, 37.583261, 57.736109
MMPLL,9, 37.596118, 57.725749
MMPLL,10, 37.611376, 57.720191
MMPLL,11, 37.610834, 57.714329
MMPLL,12, 37.645250, 57.704663
MMPLL,13, 37.648213, 57.697194
MMPLL,14, 37.656891, 57.698543
MMPLL,15, 37.664307, 57.689320
MMPLL,16, 37.653897, 57.686859
MMPLL,17, 37.667299, 57.677765
MMPLL,18, 37.666453, 57.670632
MMPLL,19, 37.651472, 57.667628
MMPLL,20, 37.641557, 57.670136
MMPLL,21, 37.630299, 57.665139
MMPLL,22, 37.645598, 57.655749
MMPLL,23, 37.622517, 57.648703
MMPLL,24, 37.608610, 57.634057
MMPLL,25, 37.591194, 57.630211
MMPLL,26, 37.588803, 57.620940
MMPLL,27, 37.561006, 57.610546
MMPLL,28, 37.584999, 57.584245
MMPLL,29, 37.609640, 57.561250
MMPLL,30, 37.638559, 57.556298
MMPLL,31, 37.657040, 57.552970
MMPLL,32, 37.665239, 57.545008
MMPLL,33, 37.155415, 57.554504
MM1B,14.274806
MOP,Map Open Position,0,0
IWH,Map Image Width/Height,2667,1969
