OziExplorer Map Data File Version 2.2
D5b2.jpg
d:\maps\pics\OldMaps\1862\Tver\OZF2\D5B2.ozf2
1 ,Map Code,
WGS 84,, 0.0000, 0.0000,WGS 84
Reserved 1
Reserved 2
Magnetic Variation,,,E
Map Projection,Latitude/Longitude,PolyCal,No,AutoCalOnly,No,BSBUseWPX,No
Point01,xy, 2398, 1758,in, deg, 57,19.310145,N, 37,42.32349,E, grid, , , ,N
Point02,xy, 2432, 374,in, deg, 57, 30.0071,N, 37,43.6444717,E, grid, , , ,N
Point03,xy, 135, 58,in, deg, 57,32.943905,N, 37,10.6892933,E, grid, , , ,N
Point04,xy, 156, 1690,in, deg, 57,20.353195,N, 37,10.47336,E, grid, , , ,N
Point05,xy, , ,in, deg, , ,N, , ,E, grid, , , ,N
Point06,xy, , ,in, deg, , ,N, , ,E, grid, , , ,N
Point07,xy, , ,in, deg, , ,N, , ,E, grid, , , ,N
Point08,xy, , ,in, deg, , ,N, , ,E, grid, , , ,N
Point09,xy, , ,in, deg, , ,N, , ,E, grid, , , ,N
Point10,xy, , ,in, deg, , ,N, , ,W, grid, , , ,N
Point11,xy, , ,in, deg, , ,N, , ,W, grid, , , ,N
Point12,xy, , ,in, deg, , ,N, , ,W, grid, , , ,N
Point13,xy, , ,in, deg, , ,N, , ,W, grid, , , ,N
Point14,xy, , ,in, deg, , ,N, , ,W, grid, , , ,N
Point15,xy, , ,in, deg, , ,N, , ,W, grid, , , ,N
Point16,xy, , ,in, deg, , ,N, , ,W, grid, , , ,N
Point17,xy, , ,in, deg, , ,N, , ,W, grid, , , ,N
Point18,xy, , ,in, deg, , ,N, , ,W, grid, , , ,N
Point19,xy, , ,in, deg, , ,N, , ,W, grid, , , ,N
Point20,xy, , ,in, deg, , ,N, , ,W, grid, , , ,N
Point21,xy, , ,in, deg, , ,N, , ,W, grid, , , ,N
Point22,xy, , ,in, deg, , ,N, , ,W, grid, , , ,N
Point23,xy, , ,in, deg, , ,N, , ,W, grid, , , ,N
Point24,xy, , ,in, deg, , ,N, , ,W, grid, , , ,N
Point25,xy, , ,in, deg, , ,N, , ,W, grid, , , ,N
Point26,xy, , ,in, deg, , ,N, , ,W, grid, , , ,N
Point27,xy, , ,in, deg, , ,N, , ,W, grid, , , ,N
Point28,xy, , ,in, deg, , ,N, , ,W, grid, , , ,N
Point29,xy, , ,in, deg, , ,N, , ,W, grid, , , ,N
Point30,xy, , ,in, deg, , ,N, , ,W, grid, , , ,N
Projection Setup, 0.000000000, 33.000000000, 1.000000000, 500000.00, 0.00,,,,,
Map Feature = MF ; Map Comment = MC These follow if they exist
Track File = TF These follow if they exist
Moving Map Parameters = MM? These follow if they exist
MM0,Yes
MMPNUM,11
MMPXY,1,33,18
MMPXY,2,2205,35
MMPXY,3,2270,72
MMPXY,4,2359,63
MMPXY,5,2385,183
MMPXY,6,2421,236
MMPXY,7,2489,248
MMPXY,8,2521,307
MMPXY,9,2568,314
MMPXY,10,2561,1812
MMPXY,11,22,1805
MMPLL,1, 37.155711, 57.554718
MMPLL,2, 37.673833, 57.544442
MMPLL,3, 37.689073, 57.539439
MMPLL,4, 37.710374, 57.540265
MMPLL,5, 37.715704, 57.524726
MMPLL,6, 37.723908, 57.517771
MMPLL,7, 37.740046, 57.515973
MMPLL,8, 37.747251, 57.508262
MMPLL,9, 37.758415, 57.507186
MMPLL,10, 37.745838, 57.314432
MMPLL,11, 37.140076, 57.324788
MM1B,14.349334
MOP,Map Open Position,0,0
IWH,Map Image Width/Height,2677,1980
