OziExplorer Map Data File Version 2.2
E1a1.jpg
E1A1.ozf2
1 ,Map Code,
WGS 84,, 0.0000, 0.0000,WGS 84
Reserved 1
Reserved 2
Magnetic Variation,,,E
Map Projection,Latitude/Longitude,PolyCal,No,AutoCalOnly,No,BSBUseWPX,No
Point01,xy, 1882, 1464,in, deg, 57, 5,N, 32, 20,E, grid, , , ,N
Point02,xy, 476, 1382,in, deg, 57, 5,N, 32, 0,E, grid, , , ,N
Point03,xy, 505, 740,in, deg, 57, 10,N, 32, 0,E, grid, , , ,N
Point04,xy, 1238, 144,in, deg, 57, 15,N, 32, 10,E, grid, , , ,N
Point05,xy, , ,in, deg, , ,N, , ,E, grid, , , ,N
Point06,xy, , ,in, deg, , ,N, , ,E, grid, , , ,N
Point07,xy, , ,in, deg, , ,N, , ,E, grid, , , ,N
Point08,xy, , ,in, deg, , ,N, , ,E, grid, , , ,N
Point09,xy, , ,in, deg, , ,N, , ,E, grid, , , ,N
Point10,xy, , ,in, deg, , ,, , ,, grid, , , ,
Point11,xy, , ,in, deg, , ,, , ,, grid, , , ,
Point12,xy, , ,in, deg, , ,, , ,, grid, , , ,
Point13,xy, , ,in, deg, , ,, , ,, grid, , , ,
Point14,xy, , ,in, deg, , ,, , ,, grid, , , ,
Point15,xy, , ,in, deg, , ,, , ,, grid, , , ,
Point16,xy, , ,in, deg, , ,, , ,, grid, , , ,
Point17,xy, , ,in, deg, , ,, , ,, grid, , , ,
Point18,xy, , ,in, deg, , ,, , ,, grid, , , ,
Point19,xy, , ,in, deg, , ,, , ,, grid, , , ,
Point20,xy, , ,in, deg, , ,, , ,, grid, , , ,
Point21,xy, , ,in, deg, , ,, , ,, grid, , , ,
Point22,xy, , ,in, deg, , ,, , ,, grid, , , ,
Point23,xy, , ,in, deg, , ,, , ,, grid, , , ,
Point24,xy, , ,in, deg, , ,, , ,, grid, , , ,
Point25,xy, , ,in, deg, , ,, , ,, grid, , , ,
Point26,xy, , ,in, deg, , ,, , ,, grid, , , ,
Point27,xy, , ,in, deg, , ,, , ,, grid, , , ,
Point28,xy, , ,in, deg, , ,, , ,, grid, , , ,
Point29,xy, , ,in, deg, , ,, , ,, grid, , , ,
Point30,xy, , ,in, deg, , ,, , ,, grid, , , ,
Projection Setup, 0.000000000, 33.000000000, 1.000000000, 500000.00, 0.00,,,,,
Map Feature = MF ; Map Comment = MC These follow if they exist
Track File = TF These follow if they exist
Moving Map Parameters = MM? These follow if they exist
MM0,Yes
MMPNUM,28
MMPXY,1,185,1585
MMPXY,2,100,1477
MMPXY,3,152,1432
MMPXY,4,97,1279
MMPXY,5,162,1289
MMPXY,6,158,1190
MMPXY,7,344,1099
MMPXY,8,424,1139
MMPXY,9,506,1080
MMPXY,10,550,908
MMPXY,11,768,874
MMPXY,12,934,654
MMPXY,13,1172,666
MMPXY,14,1236,714
MMPXY,15,1305,615
MMPXY,16,1454,614
MMPXY,17,1475,529
MMPXY,18,1549,534
MMPXY,19,1477,336
MMPXY,20,1476,187
MMPXY,21,1513,126
MMPXY,22,1642,62
MMPXY,23,1765,199
MMPXY,24,1772,250
MMPXY,25,1852,299
MMPXY,26,1888,353
MMPXY,27,1907,338
MMPXY,28,1909,1589
MMPLL,1,31.933480,57.054590
MMPLL,2,31.912210,57.067968
MMPLL,3,31.924013,57.074214
MMPLL,4,31.909345,57.093669
MMPLL,5,31.924819,57.092870
MMPLL,6,31.922796,57.105702
MMPLL,7,31.965773,57.118956
MMPLL,8,31.985120,57.114376
MMPLL,9,32.003861,57.122672
MMPLL,10,32.012389,57.145357
MMPLL,11,32.063552,57.151453
MMPLL,12,32.100397,57.181314
MMPLL,13,32.156788,57.181587
MMPLL,14,32.172440,57.175844
MMPLL,15,32.187672,57.189237
MMPLL,16,32.222883,57.190514
MMPLL,17,32.226922,57.201719
MMPLL,18,32.244469,57.201639
MMPLL,19,32.225293,57.226810
MMPLL,20,32.223434,57.246160
MMPLL,21,32.231516,57.254370
MMPLL,22,32.261314,57.263678
MMPLL,23,32.291881,57.246826
MMPLL,24,32.294091,57.240254
MMPLL,25,32.313536,57.234504
MMPLL,26,32.322634,57.227765
MMPLL,27,32.326962,57.229860
MMPLL,28,32.341058,57.067344
MM1B,14.307738
MOP,Map Open Position,0,0
IWH,Map Image Width/Height,1942,1616
