OziExplorer Map Data File Version 2.2
E1a2.jpg
E1A2.ozf2
1 ,Map Code,
WGS 84,, 0.0000, 0.0000,WGS 84
Reserved 1
Reserved 2
Magnetic Variation,,,E
Map Projection,Latitude/Longitude,PolyCal,No,AutoCalOnly,No,BSBUseWPX,No
Point01,xy, 2163, 606,in, deg, 57, 15,N, 32, 50,E, grid, , , ,N
Point02,xy, 2121, 1903,in, deg, 57, 5,N, 32, 50,E, grid, , , ,N
Point03,xy, 711, 1846,in, deg, 57, 5,N, 32, 30,E, grid, , , ,N
Point04,xy, 762, 557,in, deg, 57, 15,N, 32, 30,E, grid, , , ,N
Point05,xy, , ,in, deg, , ,N, , ,E, grid, , , ,N
Point06,xy, , ,in, deg, , ,N, , ,E, grid, , , ,N
Point07,xy, , ,in, deg, , ,N, , ,E, grid, , , ,N
Point08,xy, , ,in, deg, , ,N, , ,E, grid, , , ,N
Point09,xy, , ,in, deg, , ,N, , ,E, grid, , , ,N
Point10,xy, , ,in, deg, , ,, , ,, grid, , , ,
Point11,xy, , ,in, deg, , ,, , ,, grid, , , ,
Point12,xy, , ,in, deg, , ,, , ,, grid, , , ,
Point13,xy, , ,in, deg, , ,, , ,, grid, , , ,
Point14,xy, , ,in, deg, , ,, , ,, grid, , , ,
Point15,xy, , ,in, deg, , ,, , ,, grid, , , ,
Point16,xy, , ,in, deg, , ,, , ,, grid, , , ,
Point17,xy, , ,in, deg, , ,, , ,, grid, , , ,
Point18,xy, , ,in, deg, , ,, , ,, grid, , , ,
Point19,xy, , ,in, deg, , ,, , ,, grid, , , ,
Point20,xy, , ,in, deg, , ,, , ,, grid, , , ,
Point21,xy, , ,in, deg, , ,, , ,, grid, , , ,
Point22,xy, , ,in, deg, , ,, , ,, grid, , , ,
Point23,xy, , ,in, deg, , ,, , ,, grid, , , ,
Point24,xy, , ,in, deg, , ,, , ,, grid, , , ,
Point25,xy, , ,in, deg, , ,, , ,, grid, , , ,
Point26,xy, , ,in, deg, , ,, , ,, grid, , , ,
Point27,xy, , ,in, deg, , ,, , ,, grid, , , ,
Point28,xy, , ,in, deg, , ,, , ,, grid, , , ,
Point29,xy, , ,in, deg, , ,, , ,, grid, , , ,
Point30,xy, , ,in, deg, , ,, , ,, grid, , , ,
Projection Setup, 0.000000000, 33.000000000, 1.000000000, 500000.00, 0.00,,,,,
Map Feature = MF ; Map Comment = MC These follow if they exist
Track File = TF These follow if they exist
Moving Map Parameters = MM? These follow if they exist
MM0,Yes
MMPNUM,13
MMPXY,1,27,699
MMPXY,2,198,684
MMPXY,3,247,742
MMPXY,4,302,643
MMPXY,5,238,519
MMPXY,6,299,515
MMPXY,7,594,267
MMPXY,8,676,272
MMPXY,9,708,174
MMPXY,10,754,157
MMPXY,11,2562,150
MMPXY,12,2569,1938
MMPXY,13,33,1940
MMPLL,1,32.327680,57.227907
MMPLL,2,32.368053,57.230668
MMPLL,3,32.380152,57.223440
MMPLL,4,32.392335,57.236450
MMPLL,5,32.376121,57.252101
MMPLL,6,32.390534,57.252912
MMPLL,7,32.458290,57.286268
MMPLL,8,32.477754,57.286023
MMPLL,9,32.484498,57.298793
MMPLL,10,32.495248,57.301204
MMPLL,11,32.923400,57.310882
MMPLL,12,32.940287,57.080756
MMPLL,13,32.339672,57.068189
MM1B,14.313940
MOP,Map Open Position,0,0
IWH,Map Image Width/Height,2684,1979
