OziExplorer Map Data File Version 2.2
E1b1.jpg
E1B1.ozf2
1 ,Map Code,
WGS 84,, 0.0000, 0.0000,WGS 84
Reserved 1
Reserved 2
Magnetic Variation,,,E
Map Projection,Latitude/Longitude,PolyCal,No,AutoCalOnly,No,BSBUseWPX,No
Point01,xy, 1661, 1187,in, deg, 56, 55,N, 32, 20,E, grid, , , ,N
Point02,xy, 1686, 557,in, deg, 57, 0,N, 32, 20,E, grid, , , ,N
Point03,xy, 269, 498,in, deg, 57, 0,N, 32, 0,E, grid, , , ,N
Point04,xy, 928, 1815,in, deg, 56, 50,N, 32, 10,E, grid, , , ,N
Point05,xy, , ,in, deg, , ,N, , ,E, grid, , , ,N
Point06,xy, , ,in, deg, , ,N, , ,E, grid, , , ,N
Point07,xy, , ,in, deg, , ,N, , ,E, grid, , , ,N
Point08,xy, , ,in, deg, , ,N, , ,E, grid, , , ,N
Point09,xy, , ,in, deg, , ,N, , ,E, grid, , , ,N
Point10,xy, , ,in, deg, , ,, , ,, grid, , , ,
Point11,xy, , ,in, deg, , ,, , ,, grid, , , ,
Point12,xy, , ,in, deg, , ,, , ,, grid, , , ,
Point13,xy, , ,in, deg, , ,, , ,, grid, , , ,
Point14,xy, , ,in, deg, , ,, , ,, grid, , , ,
Point15,xy, , ,in, deg, , ,, , ,, grid, , , ,
Point16,xy, , ,in, deg, , ,, , ,, grid, , , ,
Point17,xy, , ,in, deg, , ,, , ,, grid, , , ,
Point18,xy, , ,in, deg, , ,, , ,, grid, , , ,
Point19,xy, , ,in, deg, , ,, , ,, grid, , , ,
Point20,xy, , ,in, deg, , ,, , ,, grid, , , ,
Point21,xy, , ,in, deg, , ,, , ,, grid, , , ,
Point22,xy, , ,in, deg, , ,, , ,, grid, , , ,
Point23,xy, , ,in, deg, , ,, , ,, grid, , , ,
Point24,xy, , ,in, deg, , ,, , ,, grid, , , ,
Point25,xy, , ,in, deg, , ,, , ,, grid, , , ,
Point26,xy, , ,in, deg, , ,, , ,, grid, , , ,
Point27,xy, , ,in, deg, , ,, , ,, grid, , , ,
Point28,xy, , ,in, deg, , ,, , ,, grid, , , ,
Point29,xy, , ,in, deg, , ,, , ,, grid, , , ,
Point30,xy, , ,in, deg, , ,, , ,, grid, , , ,
Projection Setup, 0.000000000, 33.000000000, 1.000000000, 500000.00, 0.00,,,,,
Map Feature = MF ; Map Comment = MC These follow if they exist
Track File = TF These follow if they exist
Moving Map Parameters = MM? These follow if they exist
MM0,Yes
MMPNUM,26
MMPXY,1,7,47
MMPXY,2,1736,36
MMPXY,3,1754,1804
MMPXY,4,1225,1812
MMPXY,5,1155,1754
MMPXY,6,1064,1768
MMPXY,7,1028,1807
MMPXY,8,932,1781
MMPXY,9,834,1709
MMPXY,10,850,1568
MMPXY,11,673,1483
MMPXY,12,759,1414
MMPXY,13,757,1129
MMPXY,14,684,1091
MMPXY,15,539,863
MMPXY,16,570,830
MMPXY,17,548,776
MMPXY,18,597,703
MMPXY,19,614,609
MMPXY,20,459,616
MMPXY,21,319,481
MMPXY,22,236,453
MMPXY,23,112,337
MMPXY,24,116,292
MMPXY,25,55,243
MMPXY,26,53,113
MMPLL,1,31.934342,57.057383
MMPLL,2,32.340437,57.066969
MMPLL,3,32.360669,56.838182
MMPLL,4,32.236463,56.834649
MMPLL,5,32.219493,56.841827
MMPLL,6,32.198241,56.839585
MMPLL,7,32.190136,56.834367
MMPLL,8,32.167347,56.837279
MMPLL,9,32.143673,56.846137
MMPLL,10,32.146155,56.864466
MMPLL,11,32.103803,56.874634
MMPLL,12,32.123383,56.883972
MMPLL,13,32.120333,56.920856
MMPLL,14,32.102839,56.925431
MMPLL,15,32.066711,56.954262
MMPLL,16,32.073695,56.958680
MMPLL,17,32.068038,56.965566
MMPLL,18,32.078888,56.975248
MMPLL,19,32.082031,56.987497
MMPLL,20,32.045680,56.985859
MMPLL,21,32.011568,57.002674
MMPLL,22,31.991816,57.005907
MMPLL,23,31.961634,57.020338
MMPLL,24,31.962167,57.026182
MMPLL,25,31.947392,57.032237
MMPLL,26,31.945746,57.049057
MM1B,14.300592
MOP,Map Open Position,0,0
IWH,Map Image Width/Height,1801,1994
