OziExplorer Map Data File Version 2.2
E6.jpg
E6.ozf2
1 ,Map Code,
WGS 84,, 0.0000, 0.0000,WGS 84
Reserved 1
Reserved 2
Magnetic Variation,,,E
Map Projection,Latitude/Longitude,PolyCal,No,AutoCalOnly,No,BSBUseWPX,No
Point01,xy, 543, 632,in, deg, 57, 15,N, 37, 50,E, grid, , , ,N
Point02,xy, 2646, 550,in, deg, 57, 15,N, 38, 20,E, grid, , , ,N
Point03,xy, 2048, 3166,in, deg, 56, 55,N, 38, 10,E, grid, , , ,N
Point04,xy, 624, 3215,in, deg, 56, 55,N, 37, 50,E, grid, , , ,N
Point05,xy, , ,in, deg, , ,N, , ,E, grid, , , ,N
Point06,xy, , ,in, deg, , ,N, , ,E, grid, , , ,N
Point07,xy, , ,in, deg, , ,N, , ,E, grid, , , ,N
Point08,xy, , ,in, deg, , ,N, , ,E, grid, , , ,N
Point09,xy, , ,in, deg, , ,N, , ,E, grid, , , ,N
Point10,xy, , ,in, deg, , ,, , ,, grid, , , ,
Point11,xy, , ,in, deg, , ,, , ,, grid, , , ,
Point12,xy, , ,in, deg, , ,, , ,, grid, , , ,
Point13,xy, , ,in, deg, , ,, , ,, grid, , , ,
Point14,xy, , ,in, deg, , ,, , ,, grid, , , ,
Point15,xy, , ,in, deg, , ,, , ,, grid, , , ,
Point16,xy, , ,in, deg, , ,, , ,, grid, , , ,
Point17,xy, , ,in, deg, , ,, , ,, grid, , , ,
Point18,xy, , ,in, deg, , ,, , ,, grid, , , ,
Point19,xy, , ,in, deg, , ,, , ,, grid, , , ,
Point20,xy, , ,in, deg, , ,, , ,, grid, , , ,
Point21,xy, , ,in, deg, , ,, , ,, grid, , , ,
Point22,xy, , ,in, deg, , ,, , ,, grid, , , ,
Point23,xy, , ,in, deg, , ,, , ,, grid, , , ,
Point24,xy, , ,in, deg, , ,, , ,, grid, , , ,
Point25,xy, , ,in, deg, , ,, , ,, grid, , , ,
Point26,xy, , ,in, deg, , ,, , ,, grid, , , ,
Point27,xy, , ,in, deg, , ,, , ,, grid, , , ,
Point28,xy, , ,in, deg, , ,, , ,, grid, , , ,
Point29,xy, , ,in, deg, , ,, , ,, grid, , , ,
Point30,xy, , ,in, deg, , ,, , ,, grid, , , ,
Projection Setup, 0.000000000, 33.000000000, 1.000000000, 500000.00, 0.00,,,,,
Map Feature = MF ; Map Comment = MC These follow if they exist
Track File = TF These follow if they exist
Moving Map Parameters = MM? These follow if they exist
MM0,Yes
MMPNUM,48
MMPXY,1,136,177
MMPXY,2,2483,175
MMPXY,3,2467,197
MMPXY,4,2521,329
MMPXY,5,2522,443
MMPXY,6,2539,520
MMPXY,7,2449,518
MMPXY,8,2390,597
MMPXY,9,2036,790
MMPXY,10,1940,782
MMPXY,11,1913,862
MMPXY,12,1939,900
MMPXY,13,1879,1104
MMPXY,14,1817,1220
MMPXY,15,1974,1168
MMPXY,16,2028,1210
MMPXY,17,2022,1242
MMPXY,18,2116,1276
MMPXY,19,2116,1403
MMPXY,20,2212,1559
MMPXY,21,2273,1563
MMPXY,22,2296,1718
MMPXY,23,2380,1899
MMPXY,24,2366,2017
MMPXY,25,2359,2112
MMPXY,26,2399,2187
MMPXY,27,2368,2217
MMPXY,28,2396,2291
MMPXY,29,2271,2371
MMPXY,30,2272,2460
MMPXY,31,2207,2469
MMPXY,32,2138,2669
MMPXY,33,1964,2691
MMPXY,34,1968,2799
MMPXY,35,1891,2839
MMPXY,36,2053,2851
MMPXY,37,2150,2924
MMPXY,38,2123,3024
MMPXY,39,2081,3108
MMPXY,40,2154,3413
MMPXY,41,2052,3459
MMPXY,42,1922,3460
MMPXY,43,1852,3516
MMPXY,44,1803,3528
MMPXY,45,1798,3618
MMPXY,46,1765,3615
MMPXY,47,1750,3750
MMPXY,48,121,3741
MMPLL,1,37.742246,57.310338
MMPLL,2,38.296839,57.299247
MMPLL,3,38.292870,57.296493
MMPLL,4,38.304500,57.279242
MMPLL,5,38.303761,57.264564
MMPLL,6,38.307118,57.254572
MMPLL,7,38.285869,57.255264
MMPLL,8,38.271252,57.245381
MMPLL,9,38.185953,57.222252
MMPLL,10,38.163337,57.223746
MMPLL,11,38.156272,57.213579
MMPLL,12,38.162091,57.208563
MMPLL,13,38.146167,57.182596
MMPLL,14,38.130524,57.167965
MMPLL,15,38.168067,57.173899
MMPLL,16,38.180467,57.168232
MMPLL,17,38.178775,57.164142
MMPLL,18,38.200696,57.159312
MMPLL,19,38.199609,57.142965
MMPLL,20,38.220957,57.122422
MMPLL,21,38.235337,57.121613
MMPLL,22,38.239445,57.101551
MMPLL,23,38.257744,57.077848
MMPLL,24,38.253426,57.062728
MMPLL,25,38.250958,57.050535
MMPLL,26,38.259768,57.040688
MMPLL,27,38.252186,57.036976
MMPLL,28,38.258169,57.027316
MMPLL,29,38.227948,57.017624
MMPLL,30,38.227422,57.006164
MMPLL,31,38.211986,57.005320
MMPLL,32,38.193970,56.979911
MMPLL,33,38.152667,56.977921
MMPLL,34,38.152688,56.964001
MMPLL,35,38.134151,56.959225
MMPLL,36,38.172327,56.956897
MMPLL,37,38.194623,56.947032
MMPLL,38,38.187387,56.934292
MMPLL,39,38.176743,56.923683
MMPLL,40,38.191382,56.884073
MMPLL,41,38.166886,56.878646
MMPLL,42,38.136160,56.879146
MMPLL,43,38.119140,56.872276
MMPLL,44,38.107459,56.870969
MMPLL,45,38.105507,56.859409
MMPLL,46,38.097735,56.859955
MMPLL,47,38.093035,56.842651
MMPLL,48,37.708193,56.851686
MM1B,14.319752
MOP,Map Open Position,0,0
IWH,Map Image Width/Height,2833,4016
