OziExplorer Map Data File Version 2.2
F1a1.jpg
F1A1.ozf2
1 ,Map Code,
WGS 84,, 0.0000, 0.0000,WGS 84
Reserved 1
Reserved 2
Magnetic Variation,,,E
Map Projection,Latitude/Longitude,PolyCal,No,AutoCalOnly,No,BSBUseWPX,No
Point01,xy, 459, 34,in, deg, 56, 50,N, 32, 20,E, grid, , , ,N
Point02,xy, 255, 744,in, deg, 56,44.836165,N, 32,18.0241883,E, grid, , , ,N
Point03,xy, 234, 1714,in, deg, 56,37.121385,N, 32,16.3118167,E, grid, , , ,N
Point04,xy, 447, 1331,in, deg, 56, 40,N, 32, 20,E, grid, , , ,N
Point05,xy, , ,in, deg, , ,N, , ,E, grid, , , ,N
Point06,xy, , ,in, deg, , ,N, , ,E, grid, , , ,N
Point07,xy, , ,in, deg, , ,N, , ,E, grid, , , ,N
Point08,xy, , ,in, deg, , ,N, , ,E, grid, , , ,N
Point09,xy, , ,in, deg, , ,N, , ,E, grid, , , ,N
Point10,xy, , ,in, deg, , ,N, , ,W, grid, , , ,N
Point11,xy, , ,in, deg, , ,N, , ,W, grid, , , ,N
Point12,xy, , ,in, deg, , ,N, , ,W, grid, , , ,N
Point13,xy, , ,in, deg, , ,N, , ,W, grid, , , ,N
Point14,xy, , ,in, deg, , ,N, , ,W, grid, , , ,N
Point15,xy, , ,in, deg, , ,N, , ,W, grid, , , ,N
Point16,xy, , ,in, deg, , ,N, , ,W, grid, , , ,N
Point17,xy, , ,in, deg, , ,N, , ,W, grid, , , ,N
Point18,xy, , ,in, deg, , ,N, , ,W, grid, , , ,N
Point19,xy, , ,in, deg, , ,N, , ,W, grid, , , ,N
Point20,xy, , ,in, deg, , ,N, , ,W, grid, , , ,N
Point21,xy, , ,in, deg, , ,N, , ,W, grid, , , ,N
Point22,xy, , ,in, deg, , ,N, , ,W, grid, , , ,N
Point23,xy, , ,in, deg, , ,N, , ,W, grid, , , ,N
Point24,xy, , ,in, deg, , ,N, , ,W, grid, , , ,N
Point25,xy, , ,in, deg, , ,N, , ,W, grid, , , ,N
Point26,xy, , ,in, deg, , ,N, , ,W, grid, , , ,N
Point27,xy, , ,in, deg, , ,N, , ,W, grid, , , ,N
Point28,xy, , ,in, deg, , ,N, , ,W, grid, , , ,N
Point29,xy, , ,in, deg, , ,N, , ,W, grid, , , ,N
Point30,xy, , ,in, deg, , ,N, , ,W, grid, , , ,N
Projection Setup, 0.000000000, 33.000000000, 1.000000000, 500000.00, 0.00,,,,,
Map Feature = MF ; Map Comment = MC These follow if they exist
Track File = TF These follow if they exist
Moving Map Parameters = MM? These follow if they exist
MM0,Yes
MMPNUM,23
MMPXY,1,53,15
MMPXY,2,567,0
MMPXY,3,642,1752
MMPXY,4,98,1754
MMPXY,5,102,1700
MMPXY,6,170,1602
MMPXY,7,154,1504
MMPXY,8,216,1418
MMPXY,9,213,1307
MMPXY,10,277,1277
MMPXY,11,286,1174
MMPXY,12,343,1031
MMPXY,13,279,946
MMPXY,14,285,888
MMPXY,15,261,753
MMPXY,16,408,635
MMPXY,17,391,586
MMPXY,18,274,562
MMPXY,19,284,376
MMPXY,20,244,327
MMPXY,21,103,313
MMPXY,22,80,160
MMPXY,23,31,139
MMPLL,1,32.246580,56.843373
MMPLL,2,32.365920,56.837223
MMPLL,3,32.373146,56.608420
MMPLL,4,32.246921,56.616731
MMPLL,5,32.248163,56.623684
MMPLL,6,32.264509,56.635345
MMPLL,7,32.261366,56.648329
MMPLL,8,32.276250,56.658526
MMPLL,9,32.276198,56.672994
MMPLL,10,32.291221,56.675883
MMPLL,11,32.293907,56.689123
MMPLL,12,32.307962,56.706804
MMPLL,13,32.293607,56.718856
MMPLL,14,32.295336,56.726296
MMPLL,15,32.290552,56.744214
MMPLL,16,32.325343,56.757228
MMPLL,17,32.321683,56.763862
MMPLL,18,32.294677,56.768824
MMPLL,19,32.298078,56.792832
MMPLL,20,32.289082,56.799828
MMPLL,21,32.256450,56.803869
MMPLL,22,32.252002,56.824109
MMPLL,23,32.240755,56.827609
MM1B,14.180128
MOP,Map Open Position,0,0
IWH,Map Image Width/Height,646,1756
