OziExplorer Map Data File Version 2.2
F1b1.jpg
F1B1.ozf2
1 ,Map Code,
WGS 84,, 0.0000, 0.0000,WGS 84
Reserved 1
Reserved 2
Magnetic Variation,,,E
Map Projection,Latitude/Longitude,PolyCal,No,AutoCalOnly,No,BSBUseWPX,No
Point01,xy, 120, 109,in, deg, 56,36.0186333,N, 32,14.3076317,E, grid, , , ,N
Point02,xy, 463, 209,in, deg, 56, 35,N, 32, 20,E, grid, , , ,N
Point03,xy, 616, 648,in, deg, 56,32.2280133,N, 32,22.5408183,E, grid, , , ,N
Point04,xy, 465, 865,in, deg, 56, 30,N, 32, 20,E, grid, , , ,N
Point05,xy, , ,in, deg, , ,N, , ,E, grid, , , ,N
Point06,xy, , ,in, deg, , ,N, , ,E, grid, , , ,N
Point07,xy, , ,in, deg, , ,N, , ,E, grid, , , ,N
Point08,xy, , ,in, deg, , ,N, , ,E, grid, , , ,N
Point09,xy, , ,in, deg, , ,N, , ,E, grid, , , ,N
Point10,xy, , ,in, deg, , ,, , ,, grid, , , ,
Point11,xy, , ,in, deg, , ,, , ,, grid, , , ,
Point12,xy, , ,in, deg, , ,, , ,, grid, , , ,
Point13,xy, , ,in, deg, , ,, , ,, grid, , , ,
Point14,xy, , ,in, deg, , ,, , ,, grid, , , ,
Point15,xy, , ,in, deg, , ,, , ,, grid, , , ,
Point16,xy, , ,in, deg, , ,, , ,, grid, , , ,
Point17,xy, , ,in, deg, , ,, , ,, grid, , , ,
Point18,xy, , ,in, deg, , ,, , ,, grid, , , ,
Point19,xy, , ,in, deg, , ,, , ,, grid, , , ,
Point20,xy, , ,in, deg, , ,, , ,, grid, , , ,
Point21,xy, , ,in, deg, , ,, , ,, grid, , , ,
Point22,xy, , ,in, deg, , ,, , ,, grid, , , ,
Point23,xy, , ,in, deg, , ,, , ,, grid, , , ,
Point24,xy, , ,in, deg, , ,, , ,, grid, , , ,
Point25,xy, , ,in, deg, , ,, , ,, grid, , , ,
Point26,xy, , ,in, deg, , ,, , ,, grid, , , ,
Point27,xy, , ,in, deg, , ,, , ,, grid, , , ,
Point28,xy, , ,in, deg, , ,, , ,, grid, , , ,
Point29,xy, , ,in, deg, , ,, , ,, grid, , , ,
Point30,xy, , ,in, deg, , ,, , ,, grid, , , ,
Projection Setup, 0.000000000, 33.000000000, 1.000000000, 500000.00, 0.00,,,,,
Map Feature = MF ; Map Comment = MC These follow if they exist
Track File = TF These follow if they exist
Moving Map Parameters = MM? These follow if they exist
MM0,Yes
MMPNUM,15
MMPXY,1,104,32
MMPXY,2,658,8
MMPXY,3,701,969
MMPXY,4,635,1028
MMPXY,5,589,1018
MMPXY,6,563,945
MMPXY,7,604,809
MMPXY,8,491,725
MMPXY,9,503,674
MMPXY,10,434,625
MMPXY,11,459,541
MMPXY,12,374,336
MMPXY,13,311,327
MMPXY,14,222,162
MMPXY,15,101,90
MMPLL,1,32.234025,56.608021
MMPLL,2,32.387799,56.616345
MMPLL,3,32.398803,56.490920
MMPLL,4,32.380429,56.482578
MMPLL,5,32.367672,56.483457
MMPLL,6,32.360527,56.492772
MMPLL,7,32.372037,56.510962
MMPLL,8,32.340758,56.520904
MMPLL,9,32.344138,56.527694
MMPLL,10,32.325036,56.533464
MMPLL,11,32.332055,56.544696
MMPLL,12,32.308663,56.570743
MMPLL,13,32.291188,56.571332
MMPLL,14,32.266647,56.592103
MMPLL,15,32.233136,56.600399
MM1B,17.073423
MOP,Map Open Position,0,0
IWH,Map Image Width/Height,733,1052
