OziExplorer Map Data File Version 2.2
F1b2.jpg
F1B2.ozf2
1 ,Map Code,
WGS 84,, 0.0000, 0.0000,WGS 84
Reserved 1
Reserved 2
Magnetic Variation,,,E
Map Projection,Latitude/Longitude,PolyCal,No,AutoCalOnly,No,BSBUseWPX,No
Point01,xy, 1894, 1605,in, deg, 56, 25,N, 32, 50,E, grid, , , ,N
Point02,xy, 1949, 313,in, deg, 56, 35,N, 32, 50,E, grid, , , ,N
Point03,xy, 527, 251,in, deg, 56, 35,N, 32, 30,E, grid, , , ,N
Point04,xy, 1180, 1581,in, deg, 56, 25,N, 32, 40,E, grid, , , ,N
Point05,xy, , ,in, deg, , ,N, , ,E, grid, , , ,N
Point06,xy, , ,in, deg, , ,N, , ,E, grid, , , ,N
Point07,xy, , ,in, deg, , ,N, , ,E, grid, , , ,N
Point08,xy, , ,in, deg, , ,N, , ,E, grid, , , ,N
Point09,xy, , ,in, deg, , ,N, , ,E, grid, , , ,N
Point10,xy, , ,in, deg, , ,N, , ,W, grid, , , ,N
Point11,xy, , ,in, deg, , ,N, , ,W, grid, , , ,N
Point12,xy, , ,in, deg, , ,N, , ,W, grid, , , ,N
Point13,xy, , ,in, deg, , ,N, , ,W, grid, , , ,N
Point14,xy, , ,in, deg, , ,N, , ,W, grid, , , ,N
Point15,xy, , ,in, deg, , ,N, , ,W, grid, , , ,N
Point16,xy, , ,in, deg, , ,N, , ,W, grid, , , ,N
Point17,xy, , ,in, deg, , ,N, , ,W, grid, , , ,N
Point18,xy, , ,in, deg, , ,N, , ,W, grid, , , ,N
Point19,xy, , ,in, deg, , ,N, , ,W, grid, , , ,N
Point20,xy, , ,in, deg, , ,N, , ,W, grid, , , ,N
Point21,xy, , ,in, deg, , ,N, , ,W, grid, , , ,N
Point22,xy, , ,in, deg, , ,N, , ,W, grid, , , ,N
Point23,xy, , ,in, deg, , ,N, , ,W, grid, , , ,N
Point24,xy, , ,in, deg, , ,N, , ,W, grid, , , ,N
Point25,xy, , ,in, deg, , ,N, , ,W, grid, , , ,N
Point26,xy, , ,in, deg, , ,N, , ,W, grid, , , ,N
Point27,xy, , ,in, deg, , ,N, , ,W, grid, , , ,N
Point28,xy, , ,in, deg, , ,N, , ,W, grid, , , ,N
Point29,xy, , ,in, deg, , ,N, , ,W, grid, , , ,N
Point30,xy, , ,in, deg, , ,N, , ,W, grid, , , ,N
Projection Setup, 0.000000000, 33.000000000, 1.000000000, 500000.00, 0.00,,,,,
Map Feature = MF ; Map Comment = MC These follow if they exist
Track File = TF These follow if they exist
Moving Map Parameters = MM? These follow if they exist
MM0,Yes
MMPNUM,32
MMPXY,1,9,34
MMPXY,2,2547,34
MMPXY,3,2541,1328
MMPXY,4,2456,1317
MMPXY,5,2392,1237
MMPXY,6,2301,1266
MMPXY,7,2147,1268
MMPXY,8,1993,1408
MMPXY,9,1878,1428
MMPXY,10,1592,1375
MMPXY,11,1417,1240
MMPXY,12,1314,1273
MMPXY,13,1253,1241
MMPXY,14,1290,1196
MMPXY,15,1241,1101
MMPXY,16,1111,1045
MMPXY,17,1103,776
MMPXY,18,1040,844
MMPXY,19,918,835
MMPXY,20,788,1028
MMPXY,21,722,1144
MMPXY,22,667,1080
MMPXY,23,596,1114
MMPXY,24,472,1080
MMPXY,25,498,1222
MMPXY,26,438,1289
MMPXY,27,262,1269
MMPXY,28,233,1101
MMPXY,29,169,1096
MMPXY,30,131,987
MMPXY,31,65,1000
MMPXY,32,4,982
MMPLL,1,32.376801,56.608602
MMPLL,2,32.970154,56.622152
MMPLL,3,32.982008,56.456039
MMPLL,4,32.962023,56.456997
MMPLL,5,32.946241,56.466923
MMPLL,6,32.925264,56.462715
MMPLL,7,32.889281,56.461636
MMPLL,8,32.854712,56.442845
MMPLL,9,32.828031,56.439664
MMPLL,10,32.760625,56.444940
MMPLL,11,32.718329,56.461333
MMPLL,12,32.694587,56.456547
MMPLL,13,32.679998,56.460329
MMPLL,14,32.688187,56.466302
MMPLL,15,32.675758,56.478233
MMPLL,16,32.644792,56.484727
MMPLL,17,32.640166,56.519209
MMPLL,18,32.626134,56.510145
MMPLL,19,32.597520,56.510649
MMPLL,20,32.569105,56.485184
MMPLL,21,32.554863,56.469943
MMPLL,22,32.541349,56.477864
MMPLL,23,32.525098,56.473121
MMPLL,24,32.495760,56.476823
MMPLL,25,32.503294,56.458736
MMPLL,26,32.489953,56.449817
MMPLL,27,32.448601,56.451444
MMPLL,28,32.440100,56.472852
MMPLL,29,32.425087,56.473152
MMPLL,30,32.415086,56.486939
MMPLL,31,32.399789,56.484918
MMPLL,32,32.385344,56.486902
MM1B,14.399295
MOP,Map Open Position,0,0
IWH,Map Image Width/Height,2680,2082
