OziExplorer Map Data File Version 2.2
F2b1.jpg
F2B1.ozf2
1 ,Map Code,
WGS 84,, 0.0000, 0.0000,WGS 84
Reserved 1
Reserved 2
Magnetic Variation,,,E
Map Projection,Latitude/Longitude,PolyCal,No,AutoCalOnly,No,BSBUseWPX,No
Point01,xy, 234, 406,in, deg, 56, 35,N, 33, 0,E, grid, , , ,N
Point02,xy, 2373, 403,in, deg, 56, 35,N, 33, 30,E, grid, , , ,N
Point03,xy, 2374, 1698,in, deg, 56, 25,N, 33, 30,E, grid, , , ,N
Point04,xy, 1655, 1701,in, deg, 56, 25,N, 33, 20,E, grid, , , ,N
Point05,xy, , ,in, deg, , ,N, , ,E, grid, , , ,N
Point06,xy, , ,in, deg, , ,N, , ,E, grid, , , ,N
Point07,xy, , ,in, deg, , ,N, , ,E, grid, , , ,N
Point08,xy, , ,in, deg, , ,N, , ,E, grid, , , ,N
Point09,xy, , ,in, deg, , ,N, , ,E, grid, , , ,N
Point10,xy, , ,in, deg, , ,, , ,, grid, , , ,
Point11,xy, , ,in, deg, , ,, , ,, grid, , , ,
Point12,xy, , ,in, deg, , ,, , ,, grid, , , ,
Point13,xy, , ,in, deg, , ,, , ,, grid, , , ,
Point14,xy, , ,in, deg, , ,, , ,, grid, , , ,
Point15,xy, , ,in, deg, , ,, , ,, grid, , , ,
Point16,xy, , ,in, deg, , ,, , ,, grid, , , ,
Point17,xy, , ,in, deg, , ,, , ,, grid, , , ,
Point18,xy, , ,in, deg, , ,, , ,, grid, , , ,
Point19,xy, , ,in, deg, , ,, , ,, grid, , , ,
Point20,xy, , ,in, deg, , ,, , ,, grid, , , ,
Point21,xy, , ,in, deg, , ,, , ,, grid, , , ,
Point22,xy, , ,in, deg, , ,, , ,, grid, , , ,
Point23,xy, , ,in, deg, , ,, , ,, grid, , , ,
Point24,xy, , ,in, deg, , ,, , ,, grid, , , ,
Point25,xy, , ,in, deg, , ,, , ,, grid, , , ,
Point26,xy, , ,in, deg, , ,, , ,, grid, , , ,
Point27,xy, , ,in, deg, , ,, , ,, grid, , , ,
Point28,xy, , ,in, deg, , ,, , ,, grid, , , ,
Point29,xy, , ,in, deg, , ,, , ,, grid, , , ,
Point30,xy, , ,in, deg, , ,, , ,, grid, , , ,
Projection Setup, 0.000000000, 33.000000000, 1.000000000, 500000.00, 0.00,,,,,
Map Feature = MF ; Map Comment = MC These follow if they exist
Track File = TF These follow if they exist
Moving Map Parameters = MM? These follow if they exist
MM0,Yes
MMPNUM,25
MMPXY,1,98,103
MMPXY,2,2635,27
MMPXY,3,2691,1814
MMPXY,4,1384,1849
MMPXY,5,1388,1810
MMPXY,6,1313,1778
MMPXY,7,1267,1711
MMPXY,8,1275,1554
MMPXY,9,1315,1495
MMPXY,10,1147,1157
MMPXY,11,1218,1069
MMPXY,12,1170,985
MMPXY,13,1163,815
MMPXY,14,1152,747
MMPXY,15,1041,784
MMPXY,16,968,752
MMPXY,17,766,848
MMPXY,18,699,1054
MMPXY,19,712,1113
MMPXY,20,609,1295
MMPXY,21,548,1303
MMPXY,22,483,1385
MMPXY,23,334,1362
MMPXY,24,275,1405
MMPXY,25,140,1403
MMPLL,1,32.968304,56.622361
MMPLL,2,33.560806,56.631585
MMPLL,3,33.574723,56.401798
MMPLL,4,33.269478,56.397580
MMPLL,5,33.270394,56.402594
MMPLL,6,33.252862,56.406725
MMPLL,7,33.242087,56.415350
MMPLL,8,33.243882,56.435535
MMPLL,9,33.253197,56.443113
MMPLL,10,33.213801,56.486610
MMPLL,11,33.230342,56.497909
MMPLL,12,33.219092,56.508721
MMPLL,13,33.217377,56.530581
MMPLL,14,33.214776,56.539327
MMPLL,15,33.188869,56.534593
MMPLL,16,33.171804,56.538724
MMPLL,17,33.124670,56.526424
MMPLL,18,33.109118,56.499950
MMPLL,19,33.112182,56.492361
MMPLL,20,33.088211,56.468982
MMPLL,21,33.073968,56.467966
MMPLL,22,33.058825,56.457437
MMPLL,23,33.024014,56.460426
MMPLL,24,33.010254,56.454910
MMPLL,25,32.978723,56.455196
MM1B,14.376359
MOP,Map Open Position,0,0
IWH,Map Image Width/Height,2715,2040
