OziExplorer Map Data File Version 2.2
F4b1.jpg
F4B1.ozf2
1 ,Map Code,
WGS 84,, 0.0000, 0.0000,WGS 84
Reserved 1
Reserved 2
Magnetic Variation,,,E
Map Projection,Latitude/Longitude,PolyCal,No,AutoCalOnly,No,BSBUseWPX,No
Point01,xy, 117, 1779,in, deg, 56, 25,N, 35, 20,E, grid, , , ,N
Point02,xy, 114, 495,in, deg, 56, 35,N, 35, 20,E, grid, , , ,N
Point03,xy, 2258, 493,in, deg, 56, 35,N, 35, 50,E, grid, , , ,N
Point04,xy, 2260, 1791,in, deg, 56, 25,N, 35, 50,E, grid, , , ,N
Point05,xy, , ,in, deg, , ,N, , ,E, grid, , , ,N
Point06,xy, , ,in, deg, , ,N, , ,E, grid, , , ,N
Point07,xy, , ,in, deg, , ,N, , ,E, grid, , , ,N
Point08,xy, , ,in, deg, , ,N, , ,E, grid, , , ,N
Point09,xy, , ,in, deg, , ,N, , ,E, grid, , , ,N
Point10,xy, , ,in, deg, , ,, , ,, grid, , , ,
Point11,xy, , ,in, deg, , ,, , ,, grid, , , ,
Point12,xy, , ,in, deg, , ,, , ,, grid, , , ,
Point13,xy, , ,in, deg, , ,, , ,, grid, , , ,
Point14,xy, , ,in, deg, , ,, , ,, grid, , , ,
Point15,xy, , ,in, deg, , ,, , ,, grid, , , ,
Point16,xy, , ,in, deg, , ,, , ,, grid, , , ,
Point17,xy, , ,in, deg, , ,, , ,, grid, , , ,
Point18,xy, , ,in, deg, , ,, , ,, grid, , , ,
Point19,xy, , ,in, deg, , ,, , ,, grid, , , ,
Point20,xy, , ,in, deg, , ,, , ,, grid, , , ,
Point21,xy, , ,in, deg, , ,, , ,, grid, , , ,
Point22,xy, , ,in, deg, , ,, , ,, grid, , , ,
Point23,xy, , ,in, deg, , ,, , ,, grid, , , ,
Point24,xy, , ,in, deg, , ,, , ,, grid, , , ,
Point25,xy, , ,in, deg, , ,, , ,, grid, , , ,
Point26,xy, , ,in, deg, , ,, , ,, grid, , , ,
Point27,xy, , ,in, deg, , ,, , ,, grid, , , ,
Point28,xy, , ,in, deg, , ,, , ,, grid, , , ,
Point29,xy, , ,in, deg, , ,, , ,, grid, , , ,
Point30,xy, , ,in, deg, , ,, , ,, grid, , , ,
Projection Setup, 0.000000000, 33.000000000, 1.000000000, 500000.00, 0.00,,,,,
Map Feature = MF ; Map Comment = MC These follow if they exist
Track File = TF These follow if they exist
Moving Map Parameters = MM? These follow if they exist
MM0,Yes
MMPNUM,9
MMPXY,1,112,32
MMPXY,2,2644,31
MMPXY,3,2649,1823
MMPXY,4,2419,1819
MMPXY,5,2280,1716
MMPXY,6,2215,1745
MMPXY,7,2273,1784
MMPXY,8,2349,1822
MMPXY,9,117,1805
MMPLL,1,35.333016,56.642654
MMPLL,2,35.923642,56.643545
MMPLL,3,35.923999,56.412201
MMPLL,4,35.870350,56.412648
MMPLL,5,35.837973,56.425903
MMPLL,6,35.822797,56.422140
MMPLL,7,35.836309,56.417122
MMPLL,8,35.854020,56.412239
MMPLL,9,35.333381,56.413762
MM1B,14.345081
MOP,Map Open Position,0,0
IWH,Map Image Width/Height,2674,1974
