OziExplorer Map Data File Version 2.2
F4b2.jpg
F4B2.ozf2
1 ,Map Code,
WGS 84,, 0.0000, 0.0000,WGS 84
Reserved 1
Reserved 2
Magnetic Variation,,,E
Map Projection,Latitude/Longitude,PolyCal,No,AutoCalOnly,No,BSBUseWPX,No
Point01,xy, 369, 1788,in, deg, 56, 25,N, 36, 0,E, grid, , , ,N
Point02,xy, 352, 496,in, deg, 56, 35,N, 36, 0,E, grid, , , ,N
Point03,xy, 2500, 459,in, deg, 56, 35,N, 36, 30,E, grid, , , ,N
Point04,xy, 2515, 1104,in, deg, 56, 30,N, 36, 30,E, grid, , , ,N
Point05,xy, , ,in, deg, , ,N, , ,E, grid, , , ,N
Point06,xy, , ,in, deg, , ,N, , ,E, grid, , , ,N
Point07,xy, , ,in, deg, , ,N, , ,E, grid, , , ,N
Point08,xy, , ,in, deg, , ,N, , ,E, grid, , , ,N
Point09,xy, , ,in, deg, , ,N, , ,E, grid, , , ,N
Point10,xy, , ,in, deg, , ,, , ,, grid, , , ,
Point11,xy, , ,in, deg, , ,, , ,, grid, , , ,
Point12,xy, , ,in, deg, , ,, , ,, grid, , , ,
Point13,xy, , ,in, deg, , ,, , ,, grid, , , ,
Point14,xy, , ,in, deg, , ,, , ,, grid, , , ,
Point15,xy, , ,in, deg, , ,, , ,, grid, , , ,
Point16,xy, , ,in, deg, , ,, , ,, grid, , , ,
Point17,xy, , ,in, deg, , ,, , ,, grid, , , ,
Point18,xy, , ,in, deg, , ,, , ,, grid, , , ,
Point19,xy, , ,in, deg, , ,, , ,, grid, , , ,
Point20,xy, , ,in, deg, , ,, , ,, grid, , , ,
Point21,xy, , ,in, deg, , ,, , ,, grid, , , ,
Point22,xy, , ,in, deg, , ,, , ,, grid, , , ,
Point23,xy, , ,in, deg, , ,, , ,, grid, , , ,
Point24,xy, , ,in, deg, , ,, , ,, grid, , , ,
Point25,xy, , ,in, deg, , ,, , ,, grid, , , ,
Point26,xy, , ,in, deg, , ,, , ,, grid, , , ,
Point27,xy, , ,in, deg, , ,, , ,, grid, , , ,
Point28,xy, , ,in, deg, , ,, , ,, grid, , , ,
Point29,xy, , ,in, deg, , ,, , ,, grid, , , ,
Point30,xy, , ,in, deg, , ,, , ,, grid, , , ,
Projection Setup, 0.000000000, 33.000000000, 1.000000000, 500000.00, 0.00,,,,,
Map Feature = MF ; Map Comment = MC These follow if they exist
Track File = TF These follow if they exist
Moving Map Parameters = MM? These follow if they exist
MM0,Yes
MMPNUM,38
MMPXY,1,20,42
MMPXY,2,2561,33
MMPXY,3,2561,352
MMPXY,4,2444,413
MMPXY,5,2357,389
MMPXY,6,2314,347
MMPXY,7,2269,503
MMPXY,8,2141,452
MMPXY,9,2070,448
MMPXY,10,2036,533
MMPXY,11,1877,543
MMPXY,12,1848,638
MMPXY,13,1716,680
MMPXY,14,1687,607
MMPXY,15,1664,695
MMPXY,16,1585,738
MMPXY,17,1380,851
MMPXY,18,1199,887
MMPXY,19,1186,947
MMPXY,20,1101,983
MMPXY,21,1075,1140
MMPXY,22,988,1195
MMPXY,23,1025,1295
MMPXY,24,976,1320
MMPXY,25,977,1380
MMPXY,26,912,1407
MMPXY,27,848,1384
MMPXY,28,759,1510
MMPXY,29,727,1498
MMPXY,30,722,1568
MMPXY,31,663,1568
MMPXY,32,634,1647
MMPXY,33,574,1577
MMPXY,34,521,1654
MMPXY,35,551,1704
MMPXY,36,487,1775
MMPXY,37,504,1825
MMPXY,38,28,1826
MMPLL,1,35.924782,56.642673
MMPLL,2,36.515066,56.638106
MMPLL,3,36.513942,56.596954
MMPLL,4,36.486548,56.589348
MMPLL,5,36.466424,56.592640
MMPLL,6,36.456583,56.598155
MMPLL,7,36.445580,56.578132
MMPLL,8,36.416027,56.585000
MMPLL,9,36.399548,56.585676
MMPLL,10,36.391351,56.574787
MMPLL,11,36.354381,56.573855
MMPLL,12,36.347310,56.561665
MMPLL,13,36.316499,56.556545
MMPLL,14,36.310020,56.566027
MMPLL,15,36.304367,56.554727
MMPLL,16,36.285865,56.549358
MMPLL,17,36.237847,56.535242
MMPLL,18,36.195675,56.531006
MMPLL,19,36.192444,56.523295
MMPLL,20,36.172572,56.518843
MMPLL,21,36.165979,56.498647
MMPLL,22,36.145576,56.491748
MMPLL,23,36.153818,56.478764
MMPLL,24,36.142348,56.475650
MMPLL,25,36.142369,56.467907
MMPLL,26,36.127174,56.464571
MMPLL,27,36.112389,56.467682
MMPLL,28,36.091271,56.451628
MMPLL,29,36.083880,56.453248
MMPLL,30,36.082472,56.444229
MMPLL,31,36.068766,56.444362
MMPLL,32,36.061752,56.434236
MMPLL,33,36.048061,56.443402
MMPLL,34,36.035478,56.433588
MMPLL,35,36.042270,56.427070
MMPLL,36,36.027154,56.418055
MMPLL,37,36.030926,56.411566
MMPLL,38,35.920352,56.412510
MM1B,14.276751
MOP,Map Open Position,0,0
IWH,Map Image Width/Height,2672,1973
