OziExplorer Map Data File Version 2.2
F5b1.jpg
F5B1.ozf2
1 ,Map Code,
WGS 84,, 0.0000, 0.0000,WGS 84
Reserved 1
Reserved 2
Magnetic Variation,,,E
Map Projection,Latitude/Longitude,PolyCal,No,AutoCalOnly,No,BSBUseWPX,No
Point01,xy, 2198, 443,in, deg, 56, 35,N, 37, 0,E, grid, , , ,N
Point02,xy, 773, 439,in, deg, 56, 35,N, 36, 40,E, grid, , , ,N
Point03,xy, 1482, 1085,in, deg, 56, 30,N, 36, 50,E, grid, , , ,N
Point04,xy, 2197, 1089,in, deg, 56, 30,N, 37, 0,E, grid, , , ,N
Point05,xy, , ,in, deg, , ,N, , ,E, grid, , , ,N
Point06,xy, , ,in, deg, , ,N, , ,E, grid, , , ,N
Point07,xy, , ,in, deg, , ,N, , ,E, grid, , , ,N
Point08,xy, , ,in, deg, , ,N, , ,E, grid, , , ,N
Point09,xy, , ,in, deg, , ,N, , ,E, grid, , , ,N
Point10,xy, , ,in, deg, , ,N, , ,W, grid, , , ,N
Point11,xy, , ,in, deg, , ,N, , ,W, grid, , , ,N
Point12,xy, , ,in, deg, , ,N, , ,W, grid, , , ,N
Point13,xy, , ,in, deg, , ,N, , ,W, grid, , , ,N
Point14,xy, , ,in, deg, , ,N, , ,W, grid, , , ,N
Point15,xy, , ,in, deg, , ,N, , ,W, grid, , , ,N
Point16,xy, , ,in, deg, , ,N, , ,W, grid, , , ,N
Point17,xy, , ,in, deg, , ,N, , ,W, grid, , , ,N
Point18,xy, , ,in, deg, , ,N, , ,W, grid, , , ,N
Point19,xy, , ,in, deg, , ,N, , ,W, grid, , , ,N
Point20,xy, , ,in, deg, , ,N, , ,W, grid, , , ,N
Point21,xy, , ,in, deg, , ,N, , ,W, grid, , , ,N
Point22,xy, , ,in, deg, , ,N, , ,W, grid, , , ,N
Point23,xy, , ,in, deg, , ,N, , ,W, grid, , , ,N
Point24,xy, , ,in, deg, , ,N, , ,W, grid, , , ,N
Point25,xy, , ,in, deg, , ,N, , ,W, grid, , , ,N
Point26,xy, , ,in, deg, , ,N, , ,W, grid, , , ,N
Point27,xy, , ,in, deg, , ,N, , ,W, grid, , , ,N
Point28,xy, , ,in, deg, , ,N, , ,W, grid, , , ,N
Point29,xy, , ,in, deg, , ,N, , ,W, grid, , , ,N
Point30,xy, , ,in, deg, , ,N, , ,W, grid, , , ,N
Projection Setup, 0.000000000, 33.000000000, 1.000000000, 500000.00, 0.00,,,,,
Map Feature = MF ; Map Comment = MC These follow if they exist
Track File = TF These follow if they exist
Moving Map Parameters = MM? These follow if they exist
MM0,Yes
MMPNUM,20
MMPXY,1,121,335
MMPXY,2,129,14
MMPXY,3,2653,79
MMPXY,4,2636,743
MMPXY,5,2619,869
MMPXY,6,2371,936
MMPXY,7,2051,752
MMPXY,8,2010,619
MMPXY,9,1802,580
MMPXY,10,1661,454
MMPXY,11,1604,291
MMPXY,12,1477,234
MMPXY,13,1494,402
MMPXY,14,1429,427
MMPXY,15,1268,349
MMPXY,16,984,55
MMPXY,17,548,39
MMPXY,18,445,205
MMPXY,19,355,248
MMPXY,20,255,196
MMPLL,1,36.514284,56.596439
MMPLL,2,36.515863,56.637928
MMPLL,3,37.105910,56.630625
MMPLL,4,37.102538,56.544804
MMPLL,5,37.098678,56.528513
MMPLL,6,37.040768,56.519746
MMPLL,7,36.965801,56.543387
MMPLL,8,36.956097,56.560557
MMPLL,9,36.907442,56.565507
MMPLL,10,36.874368,56.581730
MMPLL,11,36.860897,56.602770
MMPLL,12,36.831159,56.610082
MMPLL,13,36.835285,56.588377
MMPLL,14,36.820114,56.585118
MMPLL,15,36.782409,56.595129
MMPLL,16,36.715757,56.633001
MMPLL,17,36.613827,56.634879
MMPLL,18,36.589901,56.613381
MMPLL,19,36.568903,56.607784
MMPLL,20,36.545481,56.614461
MM1B,14.366049
MOP,Map Open Position,0,0
IWH,Map Image Width/Height,2671,1306
