OziExplorer Map Data File Version 2.2
F5b2a1.jpg
F5B2A1.ozf2
1 ,Map Code,
WGS 84,, 0.0000, 0.0000,WGS 84
Reserved 1
Reserved 2
Magnetic Variation,,,E
Map Projection,Latitude/Longitude,PolyCal,No,AutoCalOnly,No,BSBUseWPX,No
Point01,xy, 170, 467,in, deg, 56,34.80846,N, 37, 8.23922,E, grid, , , ,N
Point02,xy, 119, 288,in, deg, 56,36.233995,N, 37,7.55254833,E, grid, , , ,N
Point03,xy, 129, 140,in, deg, 56,37.3701333,N, 37,7.57856167,E, grid, , , ,N
Point04,xy, , ,in, deg, , ,N, , ,E, grid, , , ,N
Point05,xy, , ,in, deg, , ,N, , ,E, grid, , , ,N
Point06,xy, , ,in, deg, , ,N, , ,E, grid, , , ,N
Point07,xy, , ,in, deg, , ,N, , ,E, grid, , , ,N
Point08,xy, , ,in, deg, , ,N, , ,E, grid, , , ,N
Point09,xy, , ,in, deg, , ,N, , ,E, grid, , , ,N
Point10,xy, , ,in, deg, , ,, , ,, grid, , , ,
Point11,xy, , ,in, deg, , ,, , ,, grid, , , ,
Point12,xy, , ,in, deg, , ,, , ,, grid, , , ,
Point13,xy, , ,in, deg, , ,, , ,, grid, , , ,
Point14,xy, , ,in, deg, , ,, , ,, grid, , , ,
Point15,xy, , ,in, deg, , ,, , ,, grid, , , ,
Point16,xy, , ,in, deg, , ,, , ,, grid, , , ,
Point17,xy, , ,in, deg, , ,, , ,, grid, , , ,
Point18,xy, , ,in, deg, , ,, , ,, grid, , , ,
Point19,xy, , ,in, deg, , ,, , ,, grid, , , ,
Point20,xy, , ,in, deg, , ,, , ,, grid, , , ,
Point21,xy, , ,in, deg, , ,, , ,, grid, , , ,
Point22,xy, , ,in, deg, , ,, , ,, grid, , , ,
Point23,xy, , ,in, deg, , ,, , ,, grid, , , ,
Point24,xy, , ,in, deg, , ,, , ,, grid, , , ,
Point25,xy, , ,in, deg, , ,, , ,, grid, , , ,
Point26,xy, , ,in, deg, , ,, , ,, grid, , , ,
Point27,xy, , ,in, deg, , ,, , ,, grid, , , ,
Point28,xy, , ,in, deg, , ,, , ,, grid, , , ,
Point29,xy, , ,in, deg, , ,, , ,, grid, , , ,
Point30,xy, , ,in, deg, , ,, , ,, grid, , , ,
Projection Setup, 0.000000000, 39.000000000, 1.000000000, 500000.00, 0.00,,,,,
Map Feature = MF ; Map Comment = MC These follow if they exist
Track File = TF These follow if they exist
Moving Map Parameters = MM? These follow if they exist
MM0,Yes
MMPNUM,10
MMPXY,1,53,53
MMPXY,2,118,54
MMPXY,3,177,159
MMPXY,4,180,233
MMPXY,5,153,291
MMPXY,6,213,331
MMPXY,7,243,400
MMPXY,8,131,565
MMPXY,9,113,647
MMPXY,10,38,714
MMPLL,1,37.111032,56.635079
MMPLL,2,37.123372,56.634067
MMPLL,3,37.135603,56.619735
MMPLL,4,37.136904,56.610159
MMPLL,5,37.132355,56.603052
MMPLL,6,37.144133,56.597082
MMPLL,7,37.150506,56.587783
MMPLL,8,37.130891,56.568042
MMPLL,9,37.128287,56.557720
MMPLL,10,37.114723,56.550105
MM1B,11.606837
MOP,Map Open Position,0,0
IWH,Map Image Width/Height,306,753
