OziExplorer Map Data File Version 2.2
F5b2a2.jpg
F5B2A2.ozf2
1 ,Map Code,
WGS 84,, 0.0000, 0.0000,WGS 84
Reserved 1
Reserved 2
Magnetic Variation,,,E
Map Projection,Latitude/Longitude,PolyCal,No,AutoCalOnly,No,BSBUseWPX,No
Point01,xy, 156, 149,in, deg, 56,36.769815,N, 37,30.5820533,E, grid, , , ,N
Point02,xy, 273, 311,in, deg, 56,35.4492267,N, 37,31.9694933,E, grid, , , ,N
Point03,xy, 147, 353,in, deg, 56, 35,N, 37, 30,E, grid, , , ,N
Point04,xy, , ,in, deg, , ,N, , ,E, grid, , , ,N
Point05,xy, , ,in, deg, , ,N, , ,E, grid, , , ,N
Point06,xy, , ,in, deg, , ,N, , ,E, grid, , , ,N
Point07,xy, , ,in, deg, , ,N, , ,E, grid, , , ,N
Point08,xy, , ,in, deg, , ,N, , ,E, grid, , , ,N
Point09,xy, , ,in, deg, , ,N, , ,E, grid, , , ,N
Point10,xy, , ,in, deg, , ,, , ,, grid, , , ,
Point11,xy, , ,in, deg, , ,, , ,, grid, , , ,
Point12,xy, , ,in, deg, , ,, , ,, grid, , , ,
Point13,xy, , ,in, deg, , ,, , ,, grid, , , ,
Point14,xy, , ,in, deg, , ,, , ,, grid, , , ,
Point15,xy, , ,in, deg, , ,, , ,, grid, , , ,
Point16,xy, , ,in, deg, , ,, , ,, grid, , , ,
Point17,xy, , ,in, deg, , ,, , ,, grid, , , ,
Point18,xy, , ,in, deg, , ,, , ,, grid, , , ,
Point19,xy, , ,in, deg, , ,, , ,, grid, , , ,
Point20,xy, , ,in, deg, , ,, , ,, grid, , , ,
Point21,xy, , ,in, deg, , ,, , ,, grid, , , ,
Point22,xy, , ,in, deg, , ,, , ,, grid, , , ,
Point23,xy, , ,in, deg, , ,, , ,, grid, , , ,
Point24,xy, , ,in, deg, , ,, , ,, grid, , , ,
Point25,xy, , ,in, deg, , ,, , ,, grid, , , ,
Point26,xy, , ,in, deg, , ,, , ,, grid, , , ,
Point27,xy, , ,in, deg, , ,, , ,, grid, , , ,
Point28,xy, , ,in, deg, , ,, , ,, grid, , , ,
Point29,xy, , ,in, deg, , ,, , ,, grid, , , ,
Point30,xy, , ,in, deg, , ,, , ,, grid, , , ,
Projection Setup, 0.000000000, 39.000000000, 1.000000000, 500000.00, 0.00,,,,,
Map Feature = MF ; Map Comment = MC These follow if they exist
Track File = TF These follow if they exist
Moving Map Parameters = MM? These follow if they exist
MM0,Yes
MMPNUM,12
MMPXY,1,58,32
MMPXY,2,466,42
MMPXY,3,376,92
MMPXY,4,356,118
MMPXY,5,401,154
MMPXY,6,376,237
MMPXY,7,326,270
MMPXY,8,295,358
MMPXY,9,148,296
MMPXY,10,190,196
MMPXY,11,94,160
MMPXY,12,41,80
MMPLL,1,37.489648,56.628572
MMPLL,2,37.590595,56.631779
MMPLL,3,37.566416,56.623550
MMPLL,4,37.560499,56.619575
MMPLL,5,37.570355,56.614901
MMPLL,6,37.561110,56.602656
MMPLL,7,37.547486,56.597332
MMPLL,8,37.536568,56.584299
MMPLL,9,37.502334,56.591558
MMPLL,10,37.516423,56.606445
MMPLL,11,37.493903,56.610539
MMPLL,12,37.483670,56.621462
MM1B,15.269897
MOP,Map Open Position,0,0
IWH,Map Image Width/Height,515,474
