OziExplorer Map Data File Version 2.2
F6.jpg
F6.ozf2
1 ,Map Code,
WGS 84,, 0.0000, 0.0000,WGS 84
Reserved 1
Reserved 2
Magnetic Variation,,,E
Map Projection,Latitude/Longitude,PolyCal,No,AutoCalOnly,No,BSBUseWPX,No
Point01,xy, 400, 282,in, deg, 56,49.51772,N, 37,46.9577317,E, grid, , , ,N
Point02,xy, 529, 892,in, deg, 56,44.7134367,N, 37,48.6193317,E, grid, , , ,N
Point03,xy, 1303, 1009,in, deg, 56,43.6428467,N, 37,59.6481817,E, grid, , , ,N
Point04,xy, 1590, 161,in, deg, 56,50.1043133,N, 38, 4.20361,E, grid, , , ,N
Point05,xy, , ,in, deg, , ,N, , ,E, grid, , , ,N
Point06,xy, , ,in, deg, , ,N, , ,E, grid, , , ,N
Point07,xy, , ,in, deg, , ,N, , ,E, grid, , , ,N
Point08,xy, , ,in, deg, , ,N, , ,E, grid, , , ,N
Point09,xy, , ,in, deg, , ,N, , ,E, grid, , , ,N
Point10,xy, , ,in, deg, , ,N, , ,W, grid, , , ,N
Point11,xy, , ,in, deg, , ,N, , ,W, grid, , , ,N
Point12,xy, , ,in, deg, , ,N, , ,W, grid, , , ,N
Point13,xy, , ,in, deg, , ,N, , ,W, grid, , , ,N
Point14,xy, , ,in, deg, , ,N, , ,W, grid, , , ,N
Point15,xy, , ,in, deg, , ,N, , ,W, grid, , , ,N
Point16,xy, , ,in, deg, , ,N, , ,W, grid, , , ,N
Point17,xy, , ,in, deg, , ,N, , ,W, grid, , , ,N
Point18,xy, , ,in, deg, , ,N, , ,W, grid, , , ,N
Point19,xy, , ,in, deg, , ,N, , ,W, grid, , , ,N
Point20,xy, , ,in, deg, , ,N, , ,W, grid, , , ,N
Point21,xy, , ,in, deg, , ,N, , ,W, grid, , , ,N
Point22,xy, , ,in, deg, , ,N, , ,W, grid, , , ,N
Point23,xy, , ,in, deg, , ,N, , ,W, grid, , , ,N
Point24,xy, , ,in, deg, , ,N, , ,W, grid, , , ,N
Point25,xy, , ,in, deg, , ,N, , ,W, grid, , , ,N
Point26,xy, , ,in, deg, , ,N, , ,W, grid, , , ,N
Point27,xy, , ,in, deg, , ,N, , ,W, grid, , , ,N
Point28,xy, , ,in, deg, , ,N, , ,W, grid, , , ,N
Point29,xy, , ,in, deg, , ,N, , ,W, grid, , , ,N
Point30,xy, , ,in, deg, , ,N, , ,W, grid, , , ,N
Projection Setup, 0.000000000, 33.000000000, 1.000000000, 500000.00, 0.00,,,,,
Map Feature = MF ; Map Comment = MC These follow if they exist
Track File = TF These follow if they exist
Moving Map Parameters = MM? These follow if they exist
MM0,Yes
MMPNUM,27
MMPXY,1,110,72
MMPXY,2,1707,88
MMPXY,3,1648,223
MMPXY,4,1578,204
MMPXY,5,1600,258
MMPXY,6,1536,401
MMPXY,7,1577,472
MMPXY,8,1584,651
MMPXY,9,1637,699
MMPXY,10,1602,821
MMPXY,11,1491,824
MMPXY,12,1432,890
MMPXY,13,1454,981
MMPXY,14,1394,1115
MMPXY,15,1317,1104
MMPXY,16,1232,1223
MMPXY,17,1122,1251
MMPXY,18,1041,1235
MMPXY,19,1041,1267
MMPXY,20,519,1268
MMPXY,21,468,1167
MMPXY,22,476,1100
MMPXY,23,443,1017
MMPXY,24,288,969
MMPXY,25,204,936
MMPXY,26,176,886
MMPXY,27,102,884
MMPLL,1,37.714991,56.853423
MMPLL,2,38.098368,56.844171
MMPLL,3,38.083218,56.827003
MMPLL,4,38.066547,56.829772
MMPLL,5,38.071438,56.822700
MMPLL,6,38.055029,56.804521
MMPLL,7,38.064359,56.795168
MMPLL,8,38.064738,56.772021
MMPLL,9,38.077116,56.765584
MMPLL,10,38.067825,56.749987
MMPLL,11,38.041148,56.750099
MMPLL,12,38.026500,56.741842
MMPLL,13,38.031122,56.729992
MMPLL,14,38.015740,56.712957
MMPLL,15,37.997329,56.714724
MMPLL,16,37.976053,56.699740
MMPLL,17,37.949435,56.696619
MMPLL,18,37.930100,56.699049
MMPLL,19,37.929867,56.694917
MMPLL,20,37.804510,56.697136
MMPLL,21,37.792998,56.710409
MMPLL,22,37.795406,56.719025
MMPLL,23,37.788085,56.729891
MMPLL,24,37.751213,56.736787
MMPLL,25,37.731282,56.741427
MMPLL,26,37.724922,56.748010
MMPLL,27,37.707166,56.748601
MM1B,14.665837
MOP,Map Open Position,0,0
IWH,Map Image Width/Height,1710,1272
