OziExplorer Map Data File Version 2.2
G2b1.jpg
G2B1.ozf2
1 ,Map Code,
WGS 84,, 0.0000, 0.0000,WGS 84
Reserved 1
Reserved 2
Magnetic Variation,,,E
Map Projection,Latitude/Longitude,PolyCal,No,AutoCalOnly,No,BSBUseWPX,No
Point01,xy, 637, 49,in, deg, 56,10.2140067,N, 33,31.55334,E, grid, , , ,N
Point02,xy, 268, 104,in, deg, 56,9.904115,N, 33,26.2606467,E, grid, , , ,N
Point03,xy, 813, 204,in, deg, 56,9.08081667,N, 33,34.1877567,E, grid, , , ,N
Point04,xy, 657, 234,in, deg, 56, 8.9747,N, 33,31.5804517,E, grid, , , ,N
Point05,xy, , ,in, deg, , ,N, , ,E, grid, , , ,N
Point06,xy, , ,in, deg, , ,N, , ,E, grid, , , ,N
Point07,xy, , ,in, deg, , ,N, , ,E, grid, , , ,N
Point08,xy, , ,in, deg, , ,N, , ,E, grid, , , ,N
Point09,xy, , ,in, deg, , ,N, , ,E, grid, , , ,N
Point10,xy, , ,in, deg, , ,, , ,, grid, , , ,
Point11,xy, , ,in, deg, , ,, , ,, grid, , , ,
Point12,xy, , ,in, deg, , ,, , ,, grid, , , ,
Point13,xy, , ,in, deg, , ,, , ,, grid, , , ,
Point14,xy, , ,in, deg, , ,, , ,, grid, , , ,
Point15,xy, , ,in, deg, , ,, , ,, grid, , , ,
Point16,xy, , ,in, deg, , ,, , ,, grid, , , ,
Point17,xy, , ,in, deg, , ,, , ,, grid, , , ,
Point18,xy, , ,in, deg, , ,, , ,, grid, , , ,
Point19,xy, , ,in, deg, , ,, , ,, grid, , , ,
Point20,xy, , ,in, deg, , ,, , ,, grid, , , ,
Point21,xy, , ,in, deg, , ,, , ,, grid, , , ,
Point22,xy, , ,in, deg, , ,, , ,, grid, , , ,
Point23,xy, , ,in, deg, , ,, , ,, grid, , , ,
Point24,xy, , ,in, deg, , ,, , ,, grid, , , ,
Point25,xy, , ,in, deg, , ,, , ,, grid, , , ,
Point26,xy, , ,in, deg, , ,, , ,, grid, , , ,
Point27,xy, , ,in, deg, , ,, , ,, grid, , , ,
Point28,xy, , ,in, deg, , ,, , ,, grid, , , ,
Point29,xy, , ,in, deg, , ,, , ,, grid, , , ,
Point30,xy, , ,in, deg, , ,, , ,, grid, , , ,
Projection Setup, 0.000000000, 33.000000000, 1.000000000, 500000.00, 0.00,,,,,
Map Feature = MF ; Map Comment = MC These follow if they exist
Track File = TF These follow if they exist
Moving Map Parameters = MM? These follow if they exist
MM0,Yes
MMPNUM,9
MMPXY,1,34,40
MMPXY,2,904,21
MMPXY,3,919,617
MMPXY,4,861,598
MMPXY,5,771,439
MMPXY,6,579,355
MMPXY,7,462,159
MMPXY,8,285,154
MMPXY,9,118,101
MMPLL,1,33.380608,56.173467
MMPLL,2,33.592360,56.172091
MMPLL,3,33.586460,56.104843
MMPLL,4,33.572668,56.107220
MMPLL,5,33.553341,56.125508
MMPLL,6,33.508022,56.135753
MMPLL,7,33.482725,56.158321
MMPLL,8,33.439786,56.159601
MMPLL,9,33.400047,56.166251
MM1B,15.108000
MOP,Map Open Position,0,0
IWH,Map Image Width/Height,936,712
