OziExplorer Map Data File Version 2.2
G2b2.jpg
G2B2.ozf2
1 ,Map Code,
WGS 84,WGS 84, 0.0000, 0.0000,WGS 84
Reserved 1
Reserved 2
Magnetic Variation,,,E
Map Projection,Latitude/Longitude,PolyCal,No,AutoCalOnly,No,BSBUseWPX,No
Point01,xy, 390, 107,in, deg, 56, 10,N, 33, 40,E, grid, , , ,N
Point02,xy, 1835, 113,in, deg, 56, 10,N, 34, 0,E, grid, , , ,N
Point03,xy, 1831, 756,in, deg, 56, 5,N, 34, 0,E, grid, , , ,N
Point04,xy, 381, 750,in, deg, 56, 5,N, 33, 40,E, grid, , , ,N
Point05,xy, , ,in, deg, , ,N, , ,E, grid, , , ,N
Point06,xy, , ,in, deg, , ,N, , ,E, grid, , , ,N
Point07,xy, , ,in, deg, , ,N, , ,E, grid, , , ,N
Point08,xy, , ,in, deg, , ,N, , ,E, grid, , , ,N
Point09,xy, , ,in, deg, , ,N, , ,E, grid, , , ,N
Point10,xy, , ,in, deg, , ,, , ,, grid, , , ,
Point11,xy, , ,in, deg, , ,, , ,, grid, , , ,
Point12,xy, , ,in, deg, , ,, , ,, grid, , , ,
Point13,xy, , ,in, deg, , ,, , ,, grid, , , ,
Point14,xy, , ,in, deg, , ,, , ,, grid, , , ,
Point15,xy, , ,in, deg, , ,, , ,, grid, , , ,
Point16,xy, , ,in, deg, , ,, , ,, grid, , , ,
Point17,xy, , ,in, deg, , ,, , ,, grid, , , ,
Point18,xy, , ,in, deg, , ,, , ,, grid, , , ,
Point19,xy, , ,in, deg, , ,, , ,, grid, , , ,
Point20,xy, , ,in, deg, , ,, , ,, grid, , , ,
Point21,xy, , ,in, deg, , ,, , ,, grid, , , ,
Point22,xy, , ,in, deg, , ,, , ,, grid, , , ,
Point23,xy, , ,in, deg, , ,, , ,, grid, , , ,
Point24,xy, , ,in, deg, , ,, , ,, grid, , , ,
Point25,xy, , ,in, deg, , ,, , ,, grid, , , ,
Point26,xy, , ,in, deg, , ,, , ,, grid, , , ,
Point27,xy, , ,in, deg, , ,, , ,, grid, , , ,
Point28,xy, , ,in, deg, , ,, , ,, grid, , , ,
Point29,xy, , ,in, deg, , ,, , ,, grid, , , ,
Point30,xy, , ,in, deg, , ,, , ,, grid, , , ,
Projection Setup,,,,,,,,,,
Map Feature = MF ; Map Comment = MC These follow if they exist
Track File = TF These follow if they exist
Moving Map Parameters = MM? These follow if they exist
MM0,Yes
MMPNUM,29
MMPXY,1,18,59
MMPXY,2,2539,27
MMPXY,3,2559,1294
MMPXY,4,2519,1262
MMPXY,5,2525,1304
MMPXY,6,2421,1314
MMPXY,7,2251,1305
MMPXY,8,2134,1197
MMPXY,9,2082,1213
MMPXY,10,1969,1063
MMPXY,11,1903,1090
MMPXY,12,1812,1037
MMPXY,13,1908,849
MMPXY,14,1940,781
MMPXY,15,1779,709
MMPXY,16,1483,699
MMPXY,17,1159,615
MMPXY,18,1135,574
MMPXY,19,984,576
MMPXY,20,908,622
MMPXY,21,779,561
MMPXY,22,755,627
MMPXY,23,671,646
MMPXY,24,594,610
MMPXY,25,420,1083
MMPXY,26,192,1115
MMPXY,27,27,1053
MMPXY,28,88,727
MMPXY,29,23,702
MMPLL,1,33.581181,56.172688
MMPLL,2,34.161624,56.178189
MMPLL,3,34.169179,56.014003
MMPLL,4,34.159893,56.018128
MMPLL,5,34.161373,56.012689
MMPLL,6,34.137447,56.011337
MMPLL,7,34.098280,56.012412
MMPLL,8,34.071087,56.026345
MMPLL,9,34.059150,56.024244
MMPLL,10,34.032780,56.043622
MMPLL,11,34.017645,56.040088
MMPLL,12,33.996567,56.046907
MMPLL,13,34.018235,56.071323
MMPLL,14,34.025446,56.080153
MMPLL,15,33.988204,56.089397
MMPLL,16,33.920020,56.090534
MMPLL,17,33.845217,56.101246
MMPLL,18,33.839595,56.106546
MMPLL,19,33.804828,56.106206
MMPLL,20,33.787434,56.100204
MMPLL,21,33.757587,56.108040
MMPLL,22,33.752214,56.099474
MMPLL,23,33.732916,56.096966
MMPLL,24,33.715101,56.101590
MMPLL,25,33.676135,56.040198
MMPLL,26,33.623707,56.035929
MMPLL,27,33.585568,56.043875
MMPLL,28,33.598855,56.086156
MMPLL,29,33.583830,56.089361
MM1B,14.326065
MOP,Map Open Position,0,0
IWH,Map Image Width/Height,2656,1379
