OziExplorer Map Data File Version 2.2
G3a2.jpg
G3A2.ozf2
1 ,Map Code,
WGS 84,WGS 84, 0.0000, 0.0000,WGS 84
Reserved 1
Reserved 2
Magnetic Variation,,,E
Map Projection,Latitude/Longitude,PolyCal,No,AutoCalOnly,No,BSBUseWPX,No
Point01,xy, 2562, 779,in, deg, 56, 20,N, 35, 20,E, grid, , , ,N
Point02,xy, 2566, 1423,in, deg, 56, 15,N, 35, 20,E, grid, , , ,N
Point03,xy, 400, 1413,in, deg, 56, 15,N, 34, 50,E, grid, , , ,N
Point04,xy, 403, 768,in, deg, 56, 20,N, 34, 50,E, grid, , , ,N
Point05,xy, , ,in, deg, , ,N, , ,E, grid, , , ,N
Point06,xy, , ,in, deg, , ,N, , ,E, grid, , , ,N
Point07,xy, , ,in, deg, , ,N, , ,E, grid, , , ,N
Point08,xy, , ,in, deg, , ,N, , ,E, grid, , , ,N
Point09,xy, , ,in, deg, , ,N, , ,E, grid, , , ,N
Point10,xy, , ,in, deg, , ,, , ,, grid, , , ,
Point11,xy, , ,in, deg, , ,, , ,, grid, , , ,
Point12,xy, , ,in, deg, , ,, , ,, grid, , , ,
Point13,xy, , ,in, deg, , ,, , ,, grid, , , ,
Point14,xy, , ,in, deg, , ,, , ,, grid, , , ,
Point15,xy, , ,in, deg, , ,, , ,, grid, , , ,
Point16,xy, , ,in, deg, , ,, , ,, grid, , , ,
Point17,xy, , ,in, deg, , ,, , ,, grid, , , ,
Point18,xy, , ,in, deg, , ,, , ,, grid, , , ,
Point19,xy, , ,in, deg, , ,, , ,, grid, , , ,
Point20,xy, , ,in, deg, , ,, , ,, grid, , , ,
Point21,xy, , ,in, deg, , ,, , ,, grid, , , ,
Point22,xy, , ,in, deg, , ,, , ,, grid, , , ,
Point23,xy, , ,in, deg, , ,, , ,, grid, , , ,
Point24,xy, , ,in, deg, , ,, , ,, grid, , , ,
Point25,xy, , ,in, deg, , ,, , ,, grid, , , ,
Point26,xy, , ,in, deg, , ,, , ,, grid, , , ,
Point27,xy, , ,in, deg, , ,, , ,, grid, , , ,
Point28,xy, , ,in, deg, , ,, , ,, grid, , , ,
Point29,xy, , ,in, deg, , ,, , ,, grid, , , ,
Point30,xy, , ,in, deg, , ,, , ,, grid, , , ,
Projection Setup,,,,,,,,,,
Map Feature = MF ; Map Comment = MC These follow if they exist
Track File = TF These follow if they exist
Moving Map Parameters = MM? These follow if they exist
MM0,Yes
MMPNUM,10
MMPXY,1,23,158
MMPXY,2,2564,154
MMPXY,3,2566,1586
MMPXY,4,2491,1617
MMPXY,5,2488,1743
MMPXY,6,2530,1758
MMPXY,7,2530,1814
MMPXY,8,2564,1809
MMPXY,9,2563,1940
MMPXY,10,29,1932
MMPLL,1,34.745986,56.412001
MMPLL,2,35.333503,56.414113
MMPLL,3,35.333709,56.228958
MMPLL,4,35.316362,56.224902
MMPLL,5,35.315646,56.208609
MMPLL,6,35.325354,56.206695
MMPLL,7,35.325344,56.199455
MMPLL,8,35.333206,56.200122
MMPLL,9,35.332952,56.183184
MMPLL,10,34.747055,56.182627
MM1B,14.300813
MOP,Map Open Position,0,0
IWH,Map Image Width/Height,2681,1982
