OziExplorer Map Data File Version 2.2
G3b1.jpg
G3B1.ozf2
1 ,Map Code,
WGS 84,WGS 84, 0.0000, 0.0000,WGS 84
Reserved 1
Reserved 2
Magnetic Variation,,,E
Map Projection,Latitude/Longitude,PolyCal,No,AutoCalOnly,No,BSBUseWPX,No
Point01,xy, 2266, 1443,in, deg, 56, 0,N, 34, 40,E, grid, , , ,N
Point02,xy, 818, 1413,in, deg, 56, 0,N, 34, 20,E, grid, , , ,N
Point03,xy, 835, 125,in, deg, 56, 10,N, 34, 20,E, grid, , , ,N
Point04,xy, 2276, 148,in, deg, 56, 10,N, 34, 40,E, grid, , , ,N
Point05,xy, , ,in, deg, , ,N, , ,E, grid, , , ,N
Point06,xy, , ,in, deg, , ,N, , ,E, grid, , , ,N
Point07,xy, , ,in, deg, , ,N, , ,E, grid, , , ,N
Point08,xy, , ,in, deg, , ,N, , ,E, grid, , , ,N
Point09,xy, , ,in, deg, , ,N, , ,E, grid, , , ,N
Point10,xy, , ,in, deg, , ,, , ,, grid, , , ,
Point11,xy, , ,in, deg, , ,, , ,, grid, , , ,
Point12,xy, , ,in, deg, , ,, , ,, grid, , , ,
Point13,xy, , ,in, deg, , ,, , ,, grid, , , ,
Point14,xy, , ,in, deg, , ,, , ,, grid, , , ,
Point15,xy, , ,in, deg, , ,, , ,, grid, , , ,
Point16,xy, , ,in, deg, , ,, , ,, grid, , , ,
Point17,xy, , ,in, deg, , ,, , ,, grid, , , ,
Point18,xy, , ,in, deg, , ,, , ,, grid, , , ,
Point19,xy, , ,in, deg, , ,, , ,, grid, , , ,
Point20,xy, , ,in, deg, , ,, , ,, grid, , , ,
Point21,xy, , ,in, deg, , ,, , ,, grid, , , ,
Point22,xy, , ,in, deg, , ,, , ,, grid, , , ,
Point23,xy, , ,in, deg, , ,, , ,, grid, , , ,
Point24,xy, , ,in, deg, , ,, , ,, grid, , , ,
Point25,xy, , ,in, deg, , ,, , ,, grid, , , ,
Point26,xy, , ,in, deg, , ,, , ,, grid, , , ,
Point27,xy, , ,in, deg, , ,, , ,, grid, , , ,
Point28,xy, , ,in, deg, , ,, , ,, grid, , , ,
Point29,xy, , ,in, deg, , ,, , ,, grid, , , ,
Point30,xy, , ,in, deg, , ,, , ,, grid, , , ,
Projection Setup,,,,,,,,,,
Map Feature = MF ; Map Comment = MC These follow if they exist
Track File = TF These follow if they exist
Moving Map Parameters = MM? These follow if they exist
MM0,Yes
MMPNUM,29
MMPXY,1,103,28
MMPXY,2,2639,33
MMPXY,3,2642,1674
MMPXY,4,2591,1656
MMPXY,5,2472,1822
MMPXY,6,878,1807
MMPXY,7,865,1762
MMPXY,8,829,1805
MMPXY,9,724,1803
MMPXY,10,687,1759
MMPXY,11,666,1779
MMPXY,12,581,1764
MMPXY,13,485,1876
MMPXY,14,396,1850
MMPXY,15,330,1762
MMPXY,16,261,1797
MMPXY,17,210,1768
MMPXY,18,105,1825
MMPXY,19,71,1762
MMPXY,20,93,1639
MMPXY,21,185,1533
MMPXY,22,210,1447
MMPXY,23,140,1385
MMPXY,24,205,1301
MMPXY,25,272,1258
MMPXY,26,231,1199
MMPXY,27,155,1195
MMPXY,28,173,1250
MMPXY,29,109,1307
MMPLL,1,34.164623,56.177228
MMPLL,2,34.749731,56.182585
MMPLL,3,34.754381,55.970864
MMPLL,4,34.742571,55.973065
MMPLL,5,34.715516,55.951366
MMPLL,6,34.347719,55.949528
MMPLL,7,34.344611,55.955303
MMPLL,8,34.336409,55.949670
MMPLL,9,34.312179,55.949680
MMPLL,10,34.303536,55.955269
MMPLL,11,34.298739,55.952639
MMPLL,12,34.279092,55.954373
MMPLL,13,34.257213,55.939695
MMPLL,14,34.236617,55.942839
MMPLL,15,34.221178,55.954037
MMPLL,16,34.205343,55.949358
MMPLL,17,34.193506,55.952979
MMPLL,18,34.169418,55.945376
MMPLL,19,34.161422,55.953424
MMPLL,20,34.166201,55.969346
MMPLL,21,34.187171,55.983240
MMPLL,22,34.192732,55.994396
MMPLL,23,34.176432,56.002229
MMPLL,24,34.191226,56.013221
MMPLL,25,34.206581,56.018928
MMPLL,26,34.196979,56.026443
MMPLL,27,34.179435,56.026780
MMPLL,28,34.183720,56.019726
MMPLL,29,34.169092,56.012220
MM1B,14.359445
MOP,Map Open Position,0,0
IWH,Map Image Width/Height,2675,1919
