OziExplorer Map Data File Version 2.2
G3b2.jpg
G3B2.ozf2
1 ,Map Code,
WGS 84,WGS 84, 0.0000, 0.0000,WGS 84
Reserved 1
Reserved 2
Magnetic Variation,,,E
Map Projection,Latitude/Longitude,PolyCal,No,AutoCalOnly,No,BSBUseWPX,No
Point01,xy, 2561, 1453,in, deg, 56, 0,N, 35, 20,E, grid, , , ,N
Point02,xy, 2564, 168,in, deg, 56, 10,N, 35, 20,E, grid, , , ,N
Point03,xy, 390, 152,in, deg, 56, 10,N, 34, 50,E, grid, , , ,N
Point04,xy, 383, 1445,in, deg, 56, 0,N, 34, 50,E, grid, , , ,N
Point05,xy, , ,in, deg, , ,N, , ,E, grid, , , ,N
Point06,xy, , ,in, deg, , ,N, , ,E, grid, , , ,N
Point07,xy, , ,in, deg, , ,N, , ,E, grid, , , ,N
Point08,xy, , ,in, deg, , ,N, , ,E, grid, , , ,N
Point09,xy, , ,in, deg, , ,N, , ,E, grid, , , ,N
Point10,xy, , ,in, deg, , ,, , ,, grid, , , ,
Point11,xy, , ,in, deg, , ,, , ,, grid, , , ,
Point12,xy, , ,in, deg, , ,, , ,, grid, , , ,
Point13,xy, , ,in, deg, , ,, , ,, grid, , , ,
Point14,xy, , ,in, deg, , ,, , ,, grid, , , ,
Point15,xy, , ,in, deg, , ,, , ,, grid, , , ,
Point16,xy, , ,in, deg, , ,, , ,, grid, , , ,
Point17,xy, , ,in, deg, , ,, , ,, grid, , , ,
Point18,xy, , ,in, deg, , ,, , ,, grid, , , ,
Point19,xy, , ,in, deg, , ,, , ,, grid, , , ,
Point20,xy, , ,in, deg, , ,, , ,, grid, , , ,
Point21,xy, , ,in, deg, , ,, , ,, grid, , , ,
Point22,xy, , ,in, deg, , ,, , ,, grid, , , ,
Point23,xy, , ,in, deg, , ,, , ,, grid, , , ,
Point24,xy, , ,in, deg, , ,, , ,, grid, , , ,
Point25,xy, , ,in, deg, , ,, , ,, grid, , , ,
Point26,xy, , ,in, deg, , ,, , ,, grid, , , ,
Point27,xy, , ,in, deg, , ,, , ,, grid, , , ,
Point28,xy, , ,in, deg, , ,, , ,, grid, , , ,
Point29,xy, , ,in, deg, , ,, , ,, grid, , , ,
Point30,xy, , ,in, deg, , ,, , ,, grid, , , ,
Projection Setup,,,,,,,,,,
Map Feature = MF ; Map Comment = MC These follow if they exist
Track File = TF These follow if they exist
Moving Map Parameters = MM? These follow if they exist
MM0,Yes
MMPNUM,42
MMPXY,1,26,31
MMPXY,2,2565,34
MMPXY,3,2564,155
MMPXY,4,2529,146
MMPXY,5,2474,293
MMPXY,6,2390,288
MMPXY,7,2320,403
MMPXY,8,2339,656
MMPXY,9,2414,646
MMPXY,10,2558,726
MMPXY,11,2559,784
MMPXY,12,2494,842
MMPXY,13,2476,972
MMPXY,14,2386,1077
MMPXY,15,2424,1157
MMPXY,16,2392,1208
MMPXY,17,2131,1152
MMPXY,18,2154,1229
MMPXY,19,2051,1405
MMPXY,20,1986,1388
MMPXY,21,1895,1592
MMPXY,22,1793,1661
MMPXY,23,1775,1824
MMPXY,24,1731,1808
MMPXY,25,1680,1838
MMPXY,26,1549,1835
MMPXY,27,1458,1776
MMPXY,28,1330,1586
MMPXY,29,1254,1634
MMPXY,30,1112,1638
MMPXY,31,1017,1699
MMPXY,32,867,1720
MMPXY,33,775,1616
MMPXY,34,649,1880
MMPXY,35,448,1747
MMPXY,36,447,1695
MMPXY,37,396,1691
MMPXY,38,284,1663
MMPXY,39,220,1753
MMPXY,40,132,1773
MMPXY,41,79,1698
MMPXY,42,23,1658
MMPLL,1,34.749816,56.182311
MMPLL,2,35.333216,56.183734
MMPLL,3,35.333094,56.168088
MMPLL,4,35.325044,56.169227
MMPLL,5,35.312537,56.150181
MMPLL,6,35.293232,56.150768
MMPLL,7,35.277250,56.135849
MMPLL,8,35.281841,56.103150
MMPLL,9,35.299065,56.104497
MMPLL,10,35.332224,56.094256
MMPLL,11,35.332506,56.086757
MMPLL,12,35.317622,56.079212
MMPLL,13,35.313602,56.062390
MMPLL,14,35.293016,56.048750
MMPLL,15,35.301818,56.038433
MMPLL,16,35.294511,56.031816
MMPLL,17,35.234490,56.038871
MMPLL,18,35.239843,56.028932
MMPLL,19,35.216334,56.006102
MMPLL,20,35.201383,56.008254
MMPLL,21,35.180655,55.981812
MMPLL,22,35.157280,55.972818
MMPLL,23,35.153289,55.951730
MMPLL,24,35.143165,55.953767
MMPLL,25,35.131473,55.949852
MMPLL,26,35.101370,55.950146
MMPLL,27,35.080408,55.957710
MMPLL,28,35.050827,55.982185
MMPLL,29,35.033407,55.975925
MMPLL,30,35.000783,55.975306
MMPLL,31,34.979009,55.967351
MMPLL,32,34.944561,55.964529
MMPLL,33,34.923329,55.977911
MMPLL,34,34.894613,55.943686
MMPLL,35,34.848310,55.960740
MMPLL,36,34.848034,55.967462
MMPLL,37,34.836312,55.967943
MMPLL,38,34.810552,55.971483
MMPLL,39,34.795927,55.959801
MMPLL,40,34.775724,55.957152
MMPLL,41,34.763479,55.966812
MMPLL,42,34.750576,55.971944
MM1B,14.302226
MOP,Map Open Position,0,0
IWH,Map Image Width/Height,2679,1963
