OziExplorer Map Data File Version 2.2
G4.jpg
G4.ozf2
1 ,Map Code,
WGS 84,, 0.0000, 0.0000,WGS 84
Reserved 1
Reserved 2
Magnetic Variation,,,E
Map Projection,Latitude/Longitude,PolyCal,No,AutoCalOnly,No,BSBUseWPX,No
Point01,xy, 114, 771,in, deg, 56, 20,N, 35, 20,E, grid, , , ,N
Point02,xy, 2980, 788,in, deg, 56, 20,N, 36, 0,E, grid, , , ,N
Point03,xy, 115, 1414,in, deg, 56, 15,N, 35, 20,E, grid, , , ,N
Point04,xy, 1551, 1408,in, deg, 56, 15,N, 35, 40,E, grid, , , ,N
Point05,xy, , ,in, deg, , ,N, , ,E, grid, , , ,N
Point06,xy, , ,in, deg, , ,N, , ,E, grid, , , ,N
Point07,xy, , ,in, deg, , ,N, , ,E, grid, , , ,N
Point08,xy, , ,in, deg, , ,N, , ,E, grid, , , ,N
Point09,xy, , ,in, deg, , ,N, , ,E, grid, , , ,N
Point10,xy, , ,in, deg, , ,, , ,, grid, , , ,
Point11,xy, , ,in, deg, , ,, , ,, grid, , , ,
Point12,xy, , ,in, deg, , ,, , ,, grid, , , ,
Point13,xy, , ,in, deg, , ,, , ,, grid, , , ,
Point14,xy, , ,in, deg, , ,, , ,, grid, , , ,
Point15,xy, , ,in, deg, , ,, , ,, grid, , , ,
Point16,xy, , ,in, deg, , ,, , ,, grid, , , ,
Point17,xy, , ,in, deg, , ,, , ,, grid, , , ,
Point18,xy, , ,in, deg, , ,, , ,, grid, , , ,
Point19,xy, , ,in, deg, , ,, , ,, grid, , , ,
Point20,xy, , ,in, deg, , ,, , ,, grid, , , ,
Point21,xy, , ,in, deg, , ,, , ,, grid, , , ,
Point22,xy, , ,in, deg, , ,, , ,, grid, , , ,
Point23,xy, , ,in, deg, , ,, , ,, grid, , , ,
Point24,xy, , ,in, deg, , ,, , ,, grid, , , ,
Point25,xy, , ,in, deg, , ,, , ,, grid, , , ,
Point26,xy, , ,in, deg, , ,, , ,, grid, , , ,
Point27,xy, , ,in, deg, , ,, , ,, grid, , , ,
Point28,xy, , ,in, deg, , ,, , ,, grid, , , ,
Point29,xy, , ,in, deg, , ,, , ,, grid, , , ,
Point30,xy, , ,in, deg, , ,, , ,, grid, , , ,
Projection Setup, 0.000000000, 33.000000000, 1.000000000, 500000.00, 0.00,,,,,
Map Feature = MF ; Map Comment = MC These follow if they exist
Track File = TF These follow if they exist
Moving Map Parameters = MM? These follow if they exist
MM0,Yes
MMPNUM,46
MMPXY,1,119,152
MMPXY,2,3113,185
MMPXY,3,3126,236
MMPXY,4,3001,349
MMPXY,5,2957,361
MMPXY,6,2928,482
MMPXY,7,2859,488
MMPXY,8,2839,413
MMPXY,9,2778,407
MMPXY,10,2825,535
MMPXY,11,2647,471
MMPXY,12,2667,422
MMPXY,13,2417,188
MMPXY,14,2372,188
MMPXY,15,2397,329
MMPXY,16,2354,333
MMPXY,17,2256,448
MMPXY,18,2141,511
MMPXY,19,2146,658
MMPXY,20,2072,849
MMPXY,21,1949,907
MMPXY,22,1875,938
MMPXY,23,1932,1148
MMPXY,24,1933,1296
MMPXY,25,1838,1402
MMPXY,26,1611,1491
MMPXY,27,1569,1499
MMPXY,28,1547,1556
MMPXY,29,1493,1563
MMPXY,30,1510,1646
MMPXY,31,1272,1742
MMPXY,32,1071,1666
MMPXY,33,1033,1561
MMPXY,34,908,1564
MMPXY,35,851,1427
MMPXY,36,798,1474
MMPXY,37,550,1528
MMPXY,38,436,1488
MMPXY,39,360,1576
MMPXY,40,227,1557
MMPXY,41,120,1576
MMPXY,42,121,1800
MMPXY,43,237,1862
MMPXY,44,174,1957
MMPXY,45,194,2004
MMPXY,46,113,2039
MMPLL,1,35.335274,56.415042
MMPLL,2,36.031401,56.412243
MMPLL,3,36.034372,56.405549
MMPLL,4,36.005191,56.390639
MMPLL,5,35.994948,56.389040
MMPLL,6,35.988081,56.373128
MMPLL,7,35.972031,56.372304
MMPLL,8,35.967457,56.382147
MMPLL,9,35.953280,56.382904
MMPLL,10,35.964077,56.366112
MMPLL,11,35.922754,56.374429
MMPLL,12,35.927455,56.380877
MMPLL,13,35.869565,56.411491
MMPLL,14,35.859102,56.411468
MMPLL,15,35.864770,56.392957
MMPLL,16,35.854768,56.392409
MMPLL,17,35.831863,56.377250
MMPLL,18,35.805058,56.368914
MMPLL,19,35.806070,56.349603
MMPLL,20,35.788668,56.324472
MMPLL,21,35.760008,56.316789
MMPLL,22,35.742770,56.312678
MMPLL,23,35.755808,56.285117
MMPLL,24,35.755889,56.265673
MMPLL,25,35.733691,56.251698
MMPLL,26,35.680818,56.239889
MMPLL,27,35.671044,56.238816
MMPLL,28,35.665870,56.231316
MMPLL,29,35.653306,56.230369
MMPLL,30,35.657174,56.219473
MMPLL,31,35.601736,56.206738
MMPLL,32,35.555078,56.216620
MMPLL,33,35.546350,56.230396
MMPLL,34,35.517282,56.229937
MMPLL,35,35.504169,56.247907
MMPLL,36,35.491797,56.241705
MMPLL,37,35.434077,56.234483
MMPLL,38,35.407611,56.239680
MMPLL,39,35.389849,56.228079
MMPLL,40,35.358944,56.230507
MMPLL,41,35.334045,56.227956
MMPLL,42,35.334047,56.198528
MMPLL,43,35.360956,56.190441
MMPLL,44,35.346210,56.177928
MMPLL,45,35.350812,56.171763
MMPLL,46,35.331942,56.167123
MM1B,14.381789
MOP,Map Open Position,0,0
IWH,Map Image Width/Height,3445,2116
