OziExplorer Map Data File Version 2.2
H3.jpg
H3.ozf2
1 ,Map Code,
WGS 84,, 0.0000, 0.0000,WGS 84
Reserved 1
Reserved 2
Magnetic Variation,,,E
Map Projection,Latitude/Longitude,PolyCal,No,AutoCalOnly,No,BSBUseWPX,No
Point01,xy, 435, 149,in, deg, 55,56.1470483,N, 34,25.9404583,E, grid, , , ,N
Point02,xy, 1294, 143,in, deg, 55,56.32916,N, 34,37.968565,E, grid, , , ,N
Point03,xy, 1458, 298,in, deg, 55, 55,N, 34, 40,E, grid, , , ,N
Point04,xy, 3, 264,in, deg, 55, 55,N, 34, 20,E, grid, , , ,N
Point05,xy, , ,in, deg, , ,N, , ,E, grid, , , ,N
Point06,xy, , ,in, deg, , ,N, , ,E, grid, , , ,N
Point07,xy, , ,in, deg, , ,N, , ,E, grid, , , ,N
Point08,xy, , ,in, deg, , ,N, , ,E, grid, , , ,N
Point09,xy, , ,in, deg, , ,N, , ,E, grid, , , ,N
Point10,xy, , ,in, deg, , ,, , ,, grid, , , ,
Point11,xy, , ,in, deg, , ,, , ,, grid, , , ,
Point12,xy, , ,in, deg, , ,, , ,, grid, , , ,
Point13,xy, , ,in, deg, , ,, , ,, grid, , , ,
Point14,xy, , ,in, deg, , ,, , ,, grid, , , ,
Point15,xy, , ,in, deg, , ,, , ,, grid, , , ,
Point16,xy, , ,in, deg, , ,, , ,, grid, , , ,
Point17,xy, , ,in, deg, , ,, , ,, grid, , , ,
Point18,xy, , ,in, deg, , ,, , ,, grid, , , ,
Point19,xy, , ,in, deg, , ,, , ,, grid, , , ,
Point20,xy, , ,in, deg, , ,, , ,, grid, , , ,
Point21,xy, , ,in, deg, , ,, , ,, grid, , , ,
Point22,xy, , ,in, deg, , ,, , ,, grid, , , ,
Point23,xy, , ,in, deg, , ,, , ,, grid, , , ,
Point24,xy, , ,in, deg, , ,, , ,, grid, , , ,
Point25,xy, , ,in, deg, , ,, , ,, grid, , , ,
Point26,xy, , ,in, deg, , ,, , ,, grid, , , ,
Point27,xy, , ,in, deg, , ,, , ,, grid, , , ,
Point28,xy, , ,in, deg, , ,, , ,, grid, , , ,
Point29,xy, , ,in, deg, , ,, , ,, grid, , , ,
Point30,xy, , ,in, deg, , ,, , ,, grid, , , ,
Projection Setup, 0.000000000, 33.000000000, 1.000000000, 500000.00, 0.00,,,,,
Map Feature = MF ; Map Comment = MC These follow if they exist
Track File = TF These follow if they exist
Moving Map Parameters = MM? These follow if they exist
MM0,Yes
MMPNUM,27
MMPXY,1,64,11
MMPXY,2,1687,24
MMPXY,3,1555,147
MMPXY,4,1605,241
MMPXY,5,1533,312
MMPXY,6,1520,451
MMPXY,7,1443,497
MMPXY,8,1407,394
MMPXY,9,1433,320
MMPXY,10,1331,337
MMPXY,11,1355,458
MMPXY,12,1233,541
MMPXY,13,1216,445
MMPXY,14,1241,416
MMPXY,15,1178,393
MMPXY,16,1124,276
MMPXY,17,1161,230
MMPXY,18,1133,146
MMPXY,19,755,231
MMPXY,20,744,296
MMPXY,21,605,307
MMPXY,22,517,218
MMPXY,23,410,305
MMPXY,24,232,265
MMPXY,25,210,144
MMPXY,26,249,93
MMPXY,27,63,53
MMPLL,1,34.350101,55.954846
MMPLL,2,34.723880,55.958151
MMPLL,3,34.691752,55.939361
MMPLL,4,34.701963,55.925488
MMPLL,5,34.684384,55.914655
MMPLL,6,34.679452,55.893861
MMPLL,7,34.661069,55.886745
MMPLL,8,34.654210,55.902006
MMPLL,9,34.661231,55.913138
MMPLL,10,34.637492,55.910270
MMPLL,11,34.641336,55.892283
MMPLL,12,34.612070,55.879497
MMPLL,13,34.609490,55.893774
MMPLL,14,34.615655,55.898185
MMPLL,15,34.601459,55.901415
MMPLL,16,34.590647,55.918708
MMPLL,17,34.599813,55.925696
MMPLL,18,34.594532,55.938146
MMPLL,19,34.506251,55.924234
MMPLL,20,34.502811,55.914494
MMPLL,21,34.470630,55.912403
MMPLL,22,34.451594,55.925406
MMPLL,23,34.425728,55.912071
MMPLL,24,34.385271,55.917468
MMPLL,25,34.381888,55.935462
MMPLL,26,34.391585,55.943202
MMPLL,27,34.349285,55.948573
MM1B,14.397219
MOP,Map Open Position,0,0
IWH,Map Image Width/Height,1755,790
