OziExplorer Map Data File Version 2.2
From Mikle_V - Ryazan_region_45
C:\OziExplorer\Maps\maps from cd\BIG\Ryazan_all\Ryazan_region.ozf2
1 ,Map Code,
Pulkovo 1942 (2),, 0.0000, 0.0000,WGS 84
Reserved 1
Reserved 2
Magnetic Variation,,,E
Map Projection,Transverse Mercator,PolyCal,No,AutoCalOnly,No,BSBUseWPX,No
Point01,xy, 9223, 1947,in, deg, , ,N, , ,E, grid, , 312000, 6096000,N
Point02,xy,10200, 2696,in, deg, , ,N, , ,E, grid, , 336000, 6076000,N
Point03,xy,10327, 5683,in, deg, , ,N, , ,E, grid, , 336000, 6000000,N
Point04,xy, 9108, 6682,in, deg, , ,N, , ,E, grid, , 304000, 5976000,N
Point05,xy, , ,in, deg, , ,N, , ,E, grid, , , ,N
Point06,xy, , ,in, deg, , ,N, , ,E, grid, , , ,N
Point07,xy, , ,in, deg, , ,N, , ,E, grid, , , ,N
Point08,xy, , ,in, deg, , ,N, , ,E, grid, , , ,N
Point09,xy, , ,in, deg, , ,N, , ,E, grid, , , ,N
Point10,xy, , ,in, deg, , ,, , ,, grid, , , ,
Point11,xy, , ,in, deg, , ,, , ,, grid, , , ,
Point12,xy, , ,in, deg, , ,, , ,, grid, , , ,
Point13,xy, , ,in, deg, , ,, , ,, grid, , , ,
Point14,xy, , ,in, deg, , ,, , ,, grid, , , ,
Point15,xy, , ,in, deg, , ,, , ,, grid, , , ,
Point16,xy, , ,in, deg, , ,, , ,, grid, , , ,
Point17,xy, , ,in, deg, , ,, , ,, grid, , , ,
Point18,xy, , ,in, deg, , ,, , ,, grid, , , ,
Point19,xy, , ,in, deg, , ,, , ,, grid, , , ,
Point20,xy, , ,in, deg, , ,, , ,, grid, , , ,
Point21,xy, , ,in, deg, , ,, , ,, grid, , , ,
Point22,xy, , ,in, deg, , ,, , ,, grid, , , ,
Point23,xy, , ,in, deg, , ,, , ,, grid, , , ,
Point24,xy, , ,in, deg, , ,, , ,, grid, , , ,
Point25,xy, , ,in, deg, , ,, , ,, grid, , , ,
Point26,xy, , ,in, deg, , ,, , ,, grid, , , ,
Point27,xy, , ,in, deg, , ,, , ,, grid, , , ,
Point28,xy, , ,in, deg, , ,, , ,, grid, , , ,
Point29,xy, , ,in, deg, , ,, , ,, grid, , , ,
Point30,xy, , ,in, deg, , ,, , ,, grid, , , ,
Projection Setup, 0.000000000, 45.000000000, 1.000000000, 500000.00, 0.00,,,,,
Map Feature = MF ; Map Comment = MC These follow if they exist
Track File = TF These follow if they exist
Moving Map Parameters = MM? These follow if they exist
MM0,Yes
MMPNUM,10
MMPXY,1,9047,1299
MMPXY,2,9094,1479
MMPXY,3,9689,1673
MMPXY,4,10297,1602
MMPXY,5,10431,2597
MMPXY,6,10823,3577
MMPXY,7,10748,4491
MMPXY,8,10860,5576
MMPXY,9,10013,6816
MMPXY,10,9041,7149
MMPLL,1,41.995448,55.100543
MMPLL,2,42.014171,55.059500
MMPLL,3,42.250352,55.015091
MMPLL,4,42.491857,55.030641
MMPLL,5,42.542213,54.803486
MMPLL,6,42.693329,54.579205
MMPLL,7,42.660614,54.370872
MMPLL,8,42.700238,54.123126
MMPLL,9,42.368810,53.841692
MMPLL,10,41.993902,53.766292
MM1B,25.345035
MOP,Map Open Position,0,0
IWH,Map Image Width/Height,10878,9266
