OziExplorer Map Data File Version 2.2
Ð_131_NWC_1.jpg
Ð_131_NWC_1.ozf2
1 ,Map Code,
WGS 84,WGS 84, 0.0000, 0.0000,WGS 84
Reserved 1
Reserved 2
Magnetic Variation,,,E
Map Projection,Latitude/Longitude,PolyCal,No,AutoCalOnly,No,BSBUseWPX,No
Point01,xy, 756, 408,in, deg, 55,40.4166667,N, 39,9.83333333,E, grid, , , ,N
Point02,xy, 4430, 467,in, deg, 55,40.4166667,N, 39,59.8333333,E, grid, , , ,N
Point03,xy, 4440, 3091,in, deg, 55,20.4166667,N, 39,59.8333333,E, grid, , , ,N
Point04,xy, 738, 3695,in, deg, 55,15.4166667,N, 39,9.83333333,E, grid, , , ,N
Point05,xy, , ,in, deg, , ,N, , ,E, grid, , , ,N
Point06,xy, , ,in, deg, , ,N, , ,E, grid, , , ,N
Point07,xy, , ,in, deg, , ,N, , ,E, grid, , , ,N
Point08,xy, , ,in, deg, , ,N, , ,E, grid, , , ,N
Point09,xy, , ,in, deg, , ,N, , ,E, grid, , , ,N
Point10,xy, , ,in, deg, , ,N, , ,W, grid, , , ,N
Point11,xy, , ,in, deg, , ,N, , ,W, grid, , , ,N
Point12,xy, , ,in, deg, , ,N, , ,W, grid, , , ,N
Point13,xy, , ,in, deg, , ,N, , ,W, grid, , , ,N
Point14,xy, , ,in, deg, , ,N, , ,W, grid, , , ,N
Point15,xy, , ,in, deg, , ,N, , ,W, grid, , , ,N
Point16,xy, , ,in, deg, , ,N, , ,W, grid, , , ,N
Point17,xy, , ,in, deg, , ,N, , ,W, grid, , , ,N
Point18,xy, , ,in, deg, , ,N, , ,W, grid, , , ,N
Point19,xy, , ,in, deg, , ,N, , ,W, grid, , , ,N
Point20,xy, , ,in, deg, , ,N, , ,W, grid, , , ,N
Point21,xy, , ,in, deg, , ,N, , ,W, grid, , , ,N
Point22,xy, , ,in, deg, , ,N, , ,W, grid, , , ,N
Point23,xy, , ,in, deg, , ,N, , ,W, grid, , , ,N
Point24,xy, , ,in, deg, , ,N, , ,W, grid, , , ,N
Point25,xy, , ,in, deg, , ,N, , ,W, grid, , , ,N
Point26,xy, , ,in, deg, , ,N, , ,W, grid, , , ,N
Point27,xy, , ,in, deg, , ,N, , ,W, grid, , , ,N
Point28,xy, , ,in, deg, , ,N, , ,W, grid, , , ,N
Point29,xy, , ,in, deg, , ,N, , ,W, grid, , , ,N
Point30,xy, , ,in, deg, , ,N, , ,W, grid, , , ,N
Projection Setup,,,,,,,,,,
Map Feature = MF ; Map Comment = MC These follow if they exist
Track File = TF These follow if they exist
Moving Map Parameters = MM? These follow if they exist
MM0,Yes
MMPNUM,37
MMPXY,1,82,2185
MMPXY,2,283,2177
MMPXY,3,643,1902
MMPXY,4,729,1760
MMPXY,5,750,1415
MMPXY,6,1040,1266
MMPXY,7,948,954
MMPXY,8,1043,786
MMPXY,9,876,454
MMPXY,10,1407,347
MMPXY,11,1441,206
MMPXY,12,1564,216
MMPXY,13,1702,44
MMPXY,14,1903,95
MMPXY,15,2267,3
MMPXY,16,2362,168
MMPXY,17,2521,231
MMPXY,18,2574,320
MMPXY,19,2771,253
MMPXY,20,2942,603
MMPXY,21,3326,656
MMPXY,22,3456,1102
MMPXY,23,3717,853
MMPXY,24,3892,867
MMPXY,25,3883,939
MMPXY,26,3974,859
MMPXY,27,4176,862
MMPXY,28,4303,966
MMPXY,29,4378,1321
MMPXY,30,4309,1404
MMPXY,31,4476,1491
MMPXY,32,4569,1568
MMPXY,33,4849,1557
MMPXY,34,5138,1581
MMPXY,35,5169,1753
MMPXY,36,5177,3712
MMPXY,37,91,3735
MMPLL,1,39.013662,55.447062
MMPLL,2,39.059083,55.448464
MMPLL,3,39.140323,55.484044
MMPLL,4,39.159699,55.502224
MMPLL,5,39.164300,55.546032
MMPLL,6,39.229774,55.565493
MMPLL,7,39.208852,55.604898
MMPLL,8,39.230251,55.626394
MMPLL,9,39.192371,55.668191
MMPLL,10,39.312327,55.682787
MMPLL,11,39.319951,55.700740
MMPLL,12,39.347752,55.699708
MMPLL,13,39.378866,55.721795
MMPLL,14,39.424311,55.715711
MMPLL,15,39.506533,55.728083
MMPLL,16,39.528071,55.707333
MMPLL,17,39.564030,55.699647
MMPLL,18,39.576044,55.688458
MMPLL,19,39.620536,55.697337
MMPLL,20,39.659327,55.653264
MMPLL,21,39.746129,55.647279
MMPLL,22,39.775695,55.590948
MMPLL,23,39.834574,55.623039
MMPLL,24,39.874128,55.621599
MMPLL,25,39.872124,55.612448
MMPLL,26,39.892655,55.622772
MMPLL,27,39.938306,55.622780
MMPLL,28,39.967051,55.609831
MMPLL,29,39.984149,55.564938
MMPLL,30,39.968590,55.554276
MMPLL,31,40.006367,55.543560
MMPLL,32,40.027416,55.533971
MMPLL,33,40.090689,55.535905
MMPLL,34,40.156009,55.533416
MMPLL,35,40.163087,55.511655
MMPLL,36,40.165717,55.263144
MMPLL,37,39.016346,55.250440
MM1B,14.279495
MOP,Map Open Position,0,0
IWH,Map Image Width/Height,5296,3870
