OziExplorer Map Data File Version 2.2
Ð_134_swa_2.jpg
d:\maps\pics\OldMaps\1862\Riasan\Ð_134_SWA_2.ozf2
1 ,Map Code,
WGS 84,WGS 84, 0.0000, 0.0000,WGS 84
Reserved 1
Reserved 2
Magnetic Variation,,,E
Map Projection,Latitude/Longitude,PolyCal,No,AutoCalOnly,No,BSBUseWPX,No
Point01,xy, 852, 117,in, deg, 54,19.2277567,N, 38,47.1286133,E, grid, , , ,N
Point02,xy, 1971, 210,in, deg, 54,18.7801717,N, 39,2.14497333,E, grid, , , ,N
Point03,xy, 1983, 2964,in, deg, 53,57.5846767,N, 39, 3.08736,E, grid, , , ,N
Point04,xy, 425, 1942,in, deg, 54,5.03042833,N, 38,42.0513383,E, grid, , , ,N
Point05,xy, , ,in, deg, , ,N, , ,E, grid, , , ,N
Point06,xy, , ,in, deg, , ,N, , ,E, grid, , , ,N
Point07,xy, , ,in, deg, , ,N, , ,E, grid, , , ,N
Point08,xy, , ,in, deg, , ,N, , ,E, grid, , , ,N
Point09,xy, , ,in, deg, , ,N, , ,E, grid, , , ,N
Point10,xy, , ,in, deg, , ,N, , ,W, grid, , , ,N
Point11,xy, , ,in, deg, , ,N, , ,W, grid, , , ,N
Point12,xy, , ,in, deg, , ,N, , ,W, grid, , , ,N
Point13,xy, , ,in, deg, , ,N, , ,W, grid, , , ,N
Point14,xy, , ,in, deg, , ,N, , ,W, grid, , , ,N
Point15,xy, , ,in, deg, , ,N, , ,W, grid, , , ,N
Point16,xy, , ,in, deg, , ,N, , ,W, grid, , , ,N
Point17,xy, , ,in, deg, , ,N, , ,W, grid, , , ,N
Point18,xy, , ,in, deg, , ,N, , ,W, grid, , , ,N
Point19,xy, , ,in, deg, , ,N, , ,W, grid, , , ,N
Point20,xy, , ,in, deg, , ,N, , ,W, grid, , , ,N
Point21,xy, , ,in, deg, , ,N, , ,W, grid, , , ,N
Point22,xy, , ,in, deg, , ,N, , ,W, grid, , , ,N
Point23,xy, , ,in, deg, , ,N, , ,W, grid, , , ,N
Point24,xy, , ,in, deg, , ,N, , ,W, grid, , , ,N
Point25,xy, , ,in, deg, , ,N, , ,W, grid, , , ,N
Point26,xy, , ,in, deg, , ,N, , ,W, grid, , , ,N
Point27,xy, , ,in, deg, , ,N, , ,W, grid, , , ,N
Point28,xy, , ,in, deg, , ,N, , ,W, grid, , , ,N
Point29,xy, , ,in, deg, , ,N, , ,W, grid, , , ,N
Point30,xy, , ,in, deg, , ,N, , ,W, grid, , , ,N
Projection Setup, 0.000000000, 39.000000000, 1.000000000, 500000.00, 0.00,,,,,
Map Feature = MF ; Map Comment = MC These follow if they exist
Track File = TF These follow if they exist
Moving Map Parameters = MM? These follow if they exist
MM0,Yes
MMPNUM,30
MMPXY,1,468,83
MMPXY,2,2024,76
MMPXY,3,2027,3689
MMPXY,4,1612,3687
MMPXY,5,1696,3514
MMPXY,6,2001,3541
MMPXY,7,2004,3210
MMPXY,8,1601,3224
MMPXY,9,1346,3164
MMPXY,10,1243,3076
MMPXY,11,924,3147
MMPXY,12,715,2863
MMPXY,13,723,2673
MMPXY,14,822,2537
MMPXY,15,608,2396
MMPXY,16,508,2098
MMPXY,17,333,2035
MMPXY,18,618,1606
MMPXY,19,732,1595
MMPXY,20,752,1392
MMPXY,21,662,1184
MMPXY,22,616,1238
MMPXY,23,313,1164
MMPXY,24,448,1030
MMPXY,25,464,746
MMPXY,26,303,708
MMPXY,27,192,574
MMPXY,28,572,414
MMPXY,29,458,403
MMPXY,30,434,302
MMPLL,1, 38.700606, 54.322901
MMPLL,2, 39.046365, 54.330627
MMPLL,3, 39.065191, 53.866728
MMPLL,4, 38.972955, 53.865164
MMPLL,5, 38.990753, 53.887746
MMPLL,6, 39.058669, 53.885617
MMPLL,7, 39.057672, 53.928131
MMPLL,8, 38.968183, 53.924566
MMPLL,9, 38.911212, 53.931151
MMPLL,10, 38.887880, 53.941998
MMPLL,11, 38.817344, 53.931482
MMPLL,12, 38.769470, 53.967031
MMPLL,13, 38.770293, 53.991462
MMPLL,14, 38.791611, 54.009359
MMPLL,15, 38.743344, 54.026525
MMPLL,16, 38.719623, 54.064350
MMPLL,17, 38.680416, 54.071671
MMPLL,18, 38.741596, 54.128005
MMPLL,19, 38.766875, 54.129918
MMPLL,20, 38.770300, 54.156071
MMPLL,21, 38.749253, 54.182383
MMPLL,22, 38.739302, 54.175248
MMPLL,23, 38.671593, 54.183420
MMPLL,24, 38.700921, 54.201218
MMPLL,25, 38.703050, 54.237754
MMPLL,26, 38.667079, 54.241927
MMPLL,27, 38.641738, 54.258646
MMPLL,28, 38.725382, 54.280857
MMPLL,29, 38.699992, 54.281769
MMPLL,30, 38.694151, 54.294632
MM1B,14.553255
MOP,Map Open Position,0,0
IWH,Map Image Width/Height,2162,3735
