OziExplorer Map Data File Version 2.2
Ð_136_swc_2.jpg
Ð_136_SWC_2.ozf2
1 ,Map Code,
WGS 84,WGS 84, 0.0000, 0.0000,WGS 84
Reserved 1
Reserved 2
Magnetic Variation,,,E
Map Projection,Latitude/Longitude,PolyCal,No,AutoCalOnly,No,BSBUseWPX,No
Point01,xy, 179, 640,in, deg, 53, 20,N, 38,39.2666667,E, grid, , , ,N
Point02,xy, 1740, 656,in, deg, 53, 20,N, 38,59.2666667,E, grid, , , ,N
Point03,xy, 1724, 2616,in, deg, 53, 5,N, 38,59.2666667,E, grid, , , ,N
Point04,xy, 939, 2612,in, deg, 53, 5,N, 38,49.2666667,E, grid, , , ,N
Point05,xy, , ,in, deg, , ,N, , ,E, grid, , , ,N
Point06,xy, , ,in, deg, , ,N, , ,E, grid, , , ,N
Point07,xy, , ,in, deg, , ,N, , ,E, grid, , , ,N
Point08,xy, , ,in, deg, , ,N, , ,E, grid, , , ,N
Point09,xy, , ,in, deg, , ,N, , ,E, grid, , , ,N
Point10,xy, , ,in, deg, , ,, , ,, grid, , , ,
Point11,xy, , ,in, deg, , ,, , ,, grid, , , ,
Point12,xy, , ,in, deg, , ,, , ,, grid, , , ,
Point13,xy, , ,in, deg, , ,, , ,, grid, , , ,
Point14,xy, , ,in, deg, , ,, , ,, grid, , , ,
Point15,xy, , ,in, deg, , ,, , ,, grid, , , ,
Point16,xy, , ,in, deg, , ,, , ,, grid, , , ,
Point17,xy, , ,in, deg, , ,, , ,, grid, , , ,
Point18,xy, , ,in, deg, , ,, , ,, grid, , , ,
Point19,xy, , ,in, deg, , ,, , ,, grid, , , ,
Point20,xy, , ,in, deg, , ,, , ,, grid, , , ,
Point21,xy, , ,in, deg, , ,, , ,, grid, , , ,
Point22,xy, , ,in, deg, , ,, , ,, grid, , , ,
Point23,xy, , ,in, deg, , ,, , ,, grid, , , ,
Point24,xy, , ,in, deg, , ,, , ,, grid, , , ,
Point25,xy, , ,in, deg, , ,, , ,, grid, , , ,
Point26,xy, , ,in, deg, , ,, , ,, grid, , , ,
Point27,xy, , ,in, deg, , ,, , ,, grid, , , ,
Point28,xy, , ,in, deg, , ,, , ,, grid, , , ,
Point29,xy, , ,in, deg, , ,, , ,, grid, , , ,
Point30,xy, , ,in, deg, , ,, , ,, grid, , , ,
Projection Setup, 0.000000000, 39.000000000, 1.000000000, 500000.00, 0.00,,,,,
Map Feature = MF ; Map Comment = MC These follow if they exist
Track File = TF These follow if they exist
Moving Map Parameters = MM? These follow if they exist
MM0,Yes
MMPNUM,32
MMPXY,1,657,76
MMPXY,2,2125,74
MMPXY,3,2140,2706
MMPXY,4,1926,2659
MMPXY,5,1734,2690
MMPXY,6,1446,2641
MMPXY,7,1292,2503
MMPXY,8,1169,2480
MMPXY,9,1119,2295
MMPXY,10,724,1971
MMPXY,11,675,1769
MMPXY,12,683,1650
MMPXY,13,760,1599
MMPXY,14,847,1606
MMPXY,15,754,1458
MMPXY,16,817,1428
MMPXY,17,741,1323
MMPXY,18,643,1356
MMPXY,19,580,1275
MMPXY,20,551,1126
MMPXY,21,589,1081
MMPXY,22,533,930
MMPXY,23,394,999
MMPXY,24,334,838
MMPXY,25,364,774
MMPXY,26,307,657
MMPXY,27,203,626
MMPXY,28,203,494
MMPXY,29,278,473
MMPXY,30,326,396
MMPXY,31,560,404
MMPXY,32,696,414
MMPLL,1,38.755433,53.405842
MMPLL,2,39.068515,53.407820
MMPLL,3,39.077063,53.072563
MMPLL,4,39.031327,53.078299
MMPLL,5,38.990442,53.074125
MMPLL,6,38.928919,53.080028
MMPLL,7,38.895795,53.097427
MMPLL,8,38.869515,53.100212
MMPLL,9,38.858475,53.123719
MMPLL,10,38.773574,53.164528
MMPLL,11,38.762713,53.190202
MMPLL,12,38.764177,53.205370
MMPLL,13,38.780496,53.211957
MMPLL,14,38.799065,53.211168
MMPLL,15,38.778930,53.229911
MMPLL,16,38.792305,53.233807
MMPLL,17,38.775883,53.247093
MMPLL,18,38.755049,53.242774
MMPLL,19,38.741448,53.253018
MMPLL,20,38.734960,53.271964
MMPLL,21,38.742973,53.277741
MMPLL,22,38.730723,53.296910
MMPLL,23,38.701218,53.287958
MMPLL,24,38.688095,53.308396
MMPLL,25,38.694363,53.316584
MMPLL,26,38.681968,53.331421
MMPLL,27,38.659725,53.335248
MMPLL,28,38.659457,53.352063
MMPLL,29,38.675409,53.354826
MMPLL,30,38.685490,53.364690
MMPLL,31,38.735412,53.363946
MMPLL,32,38.764438,53.362832
MM1B,14.236928
MOP,Map Open Position,0,0
IWH,Map Image Width/Height,2238,2925
