OziExplorer Map Data File Version 2.2
From Mikle_V - Tula_region
C:\OziExplorer\Maps\maps from cd\BIG\Tula_all\Tula_region.ozf2
1 ,Map Code,
Pulkovo 1942 (2),WGS 84, 0.0000, 0.0000,WGS 84
Reserved 1
Reserved 2
Magnetic Variation,,,E
Map Projection,Transverse Mercator,PolyCal,No,AutoCalOnly,No,BSBUseWPX,No
Point01,xy, 3232, 1284,in, deg, , ,N, , ,E, grid, , 368000, 6052000,N
Point02,xy, 7012, 1130,in, deg, , ,N, , ,E, grid, , 464000, 6056000,N
Point03,xy, 7328, 8057,in, deg, , ,N, , ,E, grid, , 472000, 5880000,N
Point04,xy, 713, 5533,in, deg, , ,N, , ,E, grid, , 304000, 5944000,N
Point05,xy, 3076, 2703,in, deg, , ,N, , ,E, grid, , 364000, 6016000,N
Point06,xy, 5912, 5534,in, deg, , ,N, , ,E, grid, , 436000, 5944000,N
Point07,xy, 3236, 6797,in, deg, , ,N, , ,E, grid, , 368000, 5912000,N
Point08,xy, , ,in, deg, , ,N, , ,E, grid, , , ,N
Point09,xy, , ,in, deg, , ,N, , ,E, grid, , , ,N
Point10,xy, , ,in, deg, , ,N, , ,W, grid, , , ,N
Point11,xy, , ,in, deg, , ,N, , ,W, grid, , , ,N
Point12,xy, , ,in, deg, , ,N, , ,W, grid, , , ,N
Point13,xy, , ,in, deg, , ,N, , ,W, grid, , , ,N
Point14,xy, , ,in, deg, , ,N, , ,W, grid, , , ,N
Point15,xy, , ,in, deg, , ,N, , ,W, grid, , , ,N
Point16,xy, , ,in, deg, , ,N, , ,W, grid, , , ,N
Point17,xy, , ,in, deg, , ,N, , ,W, grid, , , ,N
Point18,xy, , ,in, deg, , ,N, , ,W, grid, , , ,N
Point19,xy, , ,in, deg, , ,N, , ,W, grid, , , ,N
Point20,xy, , ,in, deg, , ,N, , ,W, grid, , , ,N
Point21,xy, , ,in, deg, , ,N, , ,W, grid, , , ,N
Point22,xy, , ,in, deg, , ,N, , ,W, grid, , , ,N
Point23,xy, , ,in, deg, , ,N, , ,W, grid, , , ,N
Point24,xy, , ,in, deg, , ,N, , ,W, grid, , , ,N
Point25,xy, , ,in, deg, , ,N, , ,W, grid, , , ,N
Point26,xy, , ,in, deg, , ,N, , ,W, grid, , , ,N
Point27,xy, , ,in, deg, , ,N, , ,W, grid, , , ,N
Point28,xy, , ,in, deg, , ,N, , ,W, grid, , , ,N
Point29,xy, , ,in, deg, , ,N, , ,W, grid, , , ,N
Point30,xy, , ,in, deg, , ,N, , ,W, grid, , , ,N
Projection Setup, 0.000000000, 39.000000000, 1.000000000, 500000.00, 0.00,,,,,
Map Feature = MF ; Map Comment = MC These follow if they exist
Track File = TF These follow if they exist
Moving Map Parameters = MM? These follow if they exist
MM0,Yes
MMPNUM,16
MMPXY,1,4331,41
MMPXY,2,7168,185
MMPXY,3,7267,2194
MMPXY,4,7959,2865
MMPXY,5,8369,4906
MMPXY,6,8330,5693
MMPXY,7,7799,8530
MMPXY,8,6540,8531
MMPXY,9,5438,8265
MMPXY,10,1187,6323
MMPXY,11,502,5518
MMPXY,12,334,4375
MMPXY,13,573,2839
MMPXY,14,2289,2254
MMPXY,15,3077,1150
MMPXY,16,3962,46
MMPLL,1, 37.378817, 54.865923
MMPLL,2, 38.501419, 54.843185
MMPLL,3, 38.545438, 54.384824
MMPLL,4, 38.816565, 54.232462
MMPLL,5, 38.976268, 53.766754
MMPLL,6, 38.961313, 53.587090
MMPLL,7, 38.760938, 52.939120
MMPLL,8, 38.285335, 52.936835
MMPLL,9, 37.867554, 52.994192
MMPLL,10, 36.232807, 53.410373
MMPLL,11, 35.958515, 53.587462
MMPLL,12, 35.875048, 53.846328
MMPLL,13, 35.941738, 54.198847
MMPLL,14, 36.601268, 54.347561
MMPLL,15, 36.896082, 54.605197
MMPLL,16, 37.232966, 54.862703
MM1B,25.389599
Other Grid Setup
GRGRID,No,4 Km,No,16711680,255,4 Km,0,16777215,8,1,Yes,No,No,x
MOP,Map Open Position,0,0
IWH,Map Image Width/Height,8471,8609
