OziExplorer Map Data File Version 2.2
From Mikle_V - Smolensk_region
C:\OziExplorer\Maps\maps from cd\BIG\Smolensk_all\Smolensk_Region.ozf2
1 ,Map Code,
Pulkovo 1942 (2),WGS 84, 0.0000, 0.0000,WGS 84
Reserved 1
Reserved 2
Magnetic Variation,,,E
Map Projection,Transverse Mercator,PolyCal,No,AutoCalOnly,No,BSBUseWPX,No
Point01,xy, 1192, 2404,in, deg, , ,N, , ,E, grid, , 380000, 6180000,N
Point02,xy,11118, 1614,in, deg, , ,N, , ,E, grid, , 632000, 6200000,N
Point03,xy, 7335, 8534,in, deg, , ,N, , ,E, grid, , 536000, 6024000,N
Point04,xy, 2610,10738,in, deg, , ,N, , ,E, grid, , 416000, 5968000,N
Point05,xy, 5284,11526,in, deg, , ,N, , ,E, grid, , 484000, 5948000,N
Point06,xy, 5913, 6645,in, deg, , ,N, , ,E, grid, , 500000, 6072000,N
Point07,xy, 6237, 2873,in, deg, , ,N, , ,E, grid, , 508000, 6168000,N
Point08,xy, 564, 6176,in, deg, , ,N, , ,E, grid, , 364000, 6084000,N
Point09,xy,10954, 5706,in, deg, , ,N, , ,E, grid, , 628000, 6096000,N
Point10,xy, , ,in, deg, , ,N, , ,W, grid, , , ,N
Point11,xy, , ,in, deg, , ,N, , ,W, grid, , , ,N
Point12,xy, , ,in, deg, , ,N, , ,W, grid, , , ,N
Point13,xy, , ,in, deg, , ,N, , ,W, grid, , , ,N
Point14,xy, , ,in, deg, , ,N, , ,W, grid, , , ,N
Point15,xy, , ,in, deg, , ,N, , ,W, grid, , , ,N
Point16,xy, , ,in, deg, , ,N, , ,W, grid, , , ,N
Point17,xy, , ,in, deg, , ,N, , ,W, grid, , , ,N
Point18,xy, , ,in, deg, , ,N, , ,W, grid, , , ,N
Point19,xy, , ,in, deg, , ,N, , ,W, grid, , , ,N
Point20,xy, , ,in, deg, , ,N, , ,W, grid, , , ,N
Point21,xy, , ,in, deg, , ,N, , ,W, grid, , , ,N
Point22,xy, , ,in, deg, , ,N, , ,W, grid, , , ,N
Point23,xy, , ,in, deg, , ,N, , ,W, grid, , , ,N
Point24,xy, , ,in, deg, , ,N, , ,W, grid, , , ,N
Point25,xy, , ,in, deg, , ,N, , ,W, grid, , , ,N
Point26,xy, , ,in, deg, , ,N, , ,W, grid, , , ,N
Point27,xy, , ,in, deg, , ,N, , ,W, grid, , , ,N
Point28,xy, , ,in, deg, , ,N, , ,W, grid, , , ,N
Point29,xy, , ,in, deg, , ,N, , ,W, grid, , , ,N
Point30,xy, , ,in, deg, , ,N, , ,W, grid, , , ,N
Projection Setup, 0.000000000, 33.000000000, 1.000000000, 500000.00, 0.00,,,,,
Map Feature = MF ; Map Comment = MC These follow if they exist
Track File = TF These follow if they exist
Moving Map Parameters = MM? These follow if they exist
MM0,Yes
MMPNUM,19
MMPXY,1,7177,2244
MMPXY,2,7493,1297
MMPXY,3,8127,825
MMPXY,4,11747,827
MMPXY,5,11946,2881
MMPXY,6,11900,6018
MMPXY,7,10790,6332
MMPXY,8,10640,7119
MMPXY,9,9696,7901
MMPXY,10,8426,8380
MMPXY,11,6863,10581
MMPXY,12,6538,11520
MMPXY,13,5545,12619
MMPXY,14,4494,12624
MMPXY,15,4346,11524
MMPXY,16,2606,11049
MMPXY,17,1354,8427
MMPXY,18,248,7271
MMPXY,19,251,2246
MMPLL,1, 33.509180, 55.777364
MMPLL,2, 33.640447, 55.993051
MMPLL,3, 33.900888, 56.099218
MMPLL,4, 35.377374, 56.079065
MMPLL,5, 35.429458, 55.608734
MMPLL,6, 35.368561, 54.893117
MMPLL,7, 34.926064, 54.829222
MMPLL,8, 34.858713, 54.650453
MMPLL,9, 34.481046, 54.477009
MMPLL,10, 33.980979, 54.372695
MMPLL,11, 33.366073, 53.873286
MMPLL,12, 33.239522, 53.659061
MMPLL,13, 32.859046, 53.408122
MMPLL,14, 32.457653, 53.405858
MMPLL,15, 32.397370, 53.656925
MMPLL,16, 31.725651, 53.760246
MMPLL,17, 31.217730, 54.352962
MMPLL,18, 30.771444, 54.609739
MMPLL,19, 30.706694, 55.756739
MM1B,25.390273
Other Grid Setup
GRGRID,No,4 Km,No,16711680,255,No Labels,0,16777215,8,1,Yes,No,No,x
MOP,Map Open Position,0,0
IWH,Map Image Width/Height,12141,12690
