OziExplorer Map Data File Version 2.2
From Mikle_V - Kaluga_region_39
C:\OziExplorer\Maps\maps from cd\BIG\Kaluga_all\Kaluga_region.ozf2
1 ,Map Code,
Pulkovo 1942 (2),WGS 84, 0.0000, 0.0000,WGS 84
Reserved 1
Reserved 2
Magnetic Variation,,,E
Map Projection,Transverse Mercator,PolyCal,No,AutoCalOnly,No,BSBUseWPX,No
Point01,xy, 6934, 727,in, deg, , ,N, , ,E, grid, , 312000, 6124000,N
Point02,xy, 9136, 635,in, deg, , ,N, , ,E, grid, , 368000, 6124000,N
Point03,xy, 9144, 4571,in, deg, , ,N, , ,E, grid, , 364000, 6024000,N
Point04,xy, 7003, 5923,in, deg, , ,N, , ,E, grid, , 308000, 5992000,N
Point05,xy, 6889, 3403,in, deg, , ,N, , ,E, grid, , 308000, 6056000,N
Point06,xy, , ,in, deg, , ,N, , ,E, grid, , , ,N
Point07,xy, , ,in, deg, , ,N, , ,E, grid, , , ,N
Point08,xy, , ,in, deg, , ,N, , ,E, grid, , , ,N
Point09,xy, , ,in, deg, , ,N, , ,E, grid, , , ,N
Point10,xy, , ,in, deg, , ,N, , ,W, grid, , , ,N
Point11,xy, , ,in, deg, , ,N, , ,W, grid, , , ,N
Point12,xy, , ,in, deg, , ,N, , ,W, grid, , , ,N
Point13,xy, , ,in, deg, , ,N, , ,W, grid, , , ,N
Point14,xy, , ,in, deg, , ,N, , ,W, grid, , , ,N
Point15,xy, , ,in, deg, , ,N, , ,W, grid, , , ,N
Point16,xy, , ,in, deg, , ,N, , ,W, grid, , , ,N
Point17,xy, , ,in, deg, , ,N, , ,W, grid, , , ,N
Point18,xy, , ,in, deg, , ,N, , ,W, grid, , , ,N
Point19,xy, , ,in, deg, , ,N, , ,W, grid, , , ,N
Point20,xy, , ,in, deg, , ,N, , ,W, grid, , , ,N
Point21,xy, , ,in, deg, , ,N, , ,W, grid, , , ,N
Point22,xy, , ,in, deg, , ,N, , ,W, grid, , , ,N
Point23,xy, , ,in, deg, , ,N, , ,W, grid, , , ,N
Point24,xy, , ,in, deg, , ,N, , ,W, grid, , , ,N
Point25,xy, , ,in, deg, , ,N, , ,W, grid, , , ,N
Point26,xy, , ,in, deg, , ,N, , ,W, grid, , , ,N
Point27,xy, , ,in, deg, , ,N, , ,W, grid, , , ,N
Point28,xy, , ,in, deg, , ,N, , ,W, grid, , , ,N
Point29,xy, , ,in, deg, , ,N, , ,W, grid, , , ,N
Point30,xy, , ,in, deg, , ,N, , ,W, grid, , , ,N
Projection Setup, 0.000000000, 39.000000000, 1.000000000, 500000.00, 0.00,,,,,
Map Feature = MF ; Map Comment = MC These follow if they exist
Track File = TF These follow if they exist
Moving Map Parameters = MM? These follow if they exist
MM0,Yes
MMPNUM,12
MMPXY,1,6814,259
MMPXY,2,8292,58
MMPXY,3,9620,428
MMPXY,4,9859,1709
MMPXY,5,10026,2219
MMPXY,6,10188,2251
MMPXY,7,9804,3800
MMPXY,8,9477,4347
MMPXY,9,9401,4773
MMPXY,10,7157,6340
MMPXY,11,7088,7308
MMPXY,12,6815,7666
MMPLL,1,35.998917,55.310334
MMPLL,2,36.591266,55.355262
MMPLL,3,37.121141,55.267513
MMPLL,4,37.207842,54.974279
MMPLL,5,37.270438,54.857237
MMPLL,6,37.334322,54.849288
MMPLL,7,37.171943,54.497169
MMPLL,8,37.040382,54.373402
MMPLL,9,37.008193,54.276389
MMPLL,10,36.130949,53.922391
MMPLL,11,36.103434,53.701438
MMPLL,12,35.998259,53.619726
MM1B,25.385923
Other Grid Setup
GRGRID,No,4 Km,No,16711680,255,4 Km,0,16777215,8,1,Yes,No,No,x
MOP,Map Open Position,0,0
IWH,Map Image Width/Height,10222,9656
